BEGIN:VCALENDAR
VERSION:2.0
PRODID:-//Oconee Fall Line Technical College - ECPv6.13.1//NONSGML v1.0//EN
CALSCALE:GREGORIAN
METHOD:PUBLISH
X-ORIGINAL-URL:https://oftc.edu
X-WR-CALDESC:Events for Oconee Fall Line Technical College
REFRESH-INTERVAL;VALUE=DURATION:PT1H
X-Robots-Tag:noindex
X-PUBLISHED-TTL:PT1H
BEGIN:VTIMEZONE
TZID:America/New_York
BEGIN:DAYLIGHT
TZOFFSETFROM:-0500
TZOFFSETTO:-0400
TZNAME:EDT
DTSTART:20260308T070000
END:DAYLIGHT
BEGIN:STANDARD
TZOFFSETFROM:-0400
TZOFFSETTO:-0500
TZNAME:EST
DTSTART:20261101T060000
END:STANDARD
END:VTIMEZONE
BEGIN:VEVENT
DTSTART;VALUE=DATE:20260608
DTEND;VALUE=DATE:20260611
DTSTAMP:20260421T051605
CREATED:20260312T102445Z
LAST-MODIFIED:20260316T192524Z
UID:5720-1780876800-1781135999@oftc.edu
SUMMARY:SGA Summer Treats: Lemonade Social
DESCRIPTION:Take a break and connect with fellow students\, faculty\, and staff during the SGA Summer Treats Series. Stop by to enjoy a refreshing glass of lemonade and visit with members of the Student Government Association as we celebrate the summer semester. \nDrop in during the times below to grab a treat and say hello. \nDates & Locations\nJune 8 – Dublin Campus (LLH Lobby)\n10:00–11:00 AM\n2:00–3:00 PM\n4:00–5:00 PM \nJune 9 – Sandersville Campus (Atrium)\n10:00–11:00 AM\n2:00–3:00 PM\n4:00–5:00 PM \nJune 10 – Jefferson Campus (Main Lobby)\n9:00–10:30 AM
URL:https://oftc.edu/event/lemonade-with-sga/
LOCATION:GA
CATEGORIES:Student Event
ATTACH;FMTTYPE=image/png:https://oftc.edu/wp-content/uploads/2026/03/AY26-SUM-Student-Life_Lemonade_SM.png
ORGANIZER;CN="OFTC Student Life":MAILTO:studentlife@oftc.edu
END:VEVENT
BEGIN:VEVENT
DTSTART;TZID=America/New_York:20260608T123000
DTEND;TZID=America/New_York:20260608T123000
DTSTAMP:20260421T051605
CREATED:20260420T183851Z
LAST-MODIFIED:20260420T183851Z
UID:5993-1780921800-1780921800@oftc.edu
SUMMARY:Imaging Science Info Session-June
DESCRIPTION:Attend a free information session! Sessions are open to students interested in exploring Radiologic Technology and Diagnostic Medical Sonography programs at OFTC. \nHowever\, to be eligible to compete for Diagnostic Medical Sonography or Radiologic Technology programs\, all applicants are REQUIRED to attend one Information Session either the term of or the term before their competitive selection deadline to be eligible for competition. \nAll sessions are at the OFTC Dublin Campus in Louie Livingston Hall (LLH) #102.
URL:https://oftc.edu/event/imaging-science-info-session-june/
LOCATION:Dublin Campus\, 560 Pinehill Road\, Dublin\, GA\, 31021\, United States
CATEGORIES:Community Event,Key Academic Dates,Student Event
ATTACH;FMTTYPE=image/png:https://oftc.edu/wp-content/uploads/2026/01/AY26-IMAGING-SCIENCE-INFO-SESSION-Event-Thumbnail.png
END:VEVENT
END:VCALENDAR