BEGIN:VCALENDAR
VERSION:2.0
PRODID:-//Oconee Fall Line Technical College - ECPv6.13.1//NONSGML v1.0//EN
CALSCALE:GREGORIAN
METHOD:PUBLISH
X-ORIGINAL-URL:https://oftc.edu
X-WR-CALDESC:Events for Oconee Fall Line Technical College
REFRESH-INTERVAL;VALUE=DURATION:PT1H
X-Robots-Tag:noindex
X-PUBLISHED-TTL:PT1H
BEGIN:VTIMEZONE
TZID:America/New_York
BEGIN:DAYLIGHT
TZOFFSETFROM:-0500
TZOFFSETTO:-0400
TZNAME:EDT
DTSTART:20270314T070000
END:DAYLIGHT
BEGIN:STANDARD
TZOFFSETFROM:-0400
TZOFFSETTO:-0500
TZNAME:EST
DTSTART:20271107T060000
END:STANDARD
END:VTIMEZONE
BEGIN:VEVENT
DTSTART;VALUE=DATE:20270510
DTEND;VALUE=DATE:20270511
DTSTAMP:20260421T132046
CREATED:20260323T174549Z
LAST-MODIFIED:20260323T174549Z
UID:5767-1809907200-1809993599@oftc.edu
SUMMARY:Grades Due – 12 Noon – Spring 2027
DESCRIPTION:
URL:https://oftc.edu/event/grades-due-12-noon-spring-2027/
CATEGORIES:Important Dates for Faculty/Staff,Key Academic Dates
END:VEVENT
BEGIN:VEVENT
DTSTART;TZID=America/New_York:20270603T190000
DTEND;TZID=America/New_York:20270603T200000
DTSTAMP:20260421T132046
CREATED:20260324T150325Z
LAST-MODIFIED:20260324T150325Z
UID:5843-1812049200-1812052800@oftc.edu
SUMMARY:Commencement – South – Spring 2027
DESCRIPTION:Commencement Ceremony \nWe look forward to celebrating your achievements at OFTC’s Commencement Ceremony! This special occasion honors the hard work and dedication of our graduates as they take the next step in their journey. *Please note\, this is a ticketed event. \nGraduates should check their OFTC email regularly for important updates\, including cap & gown details\, ticket pick-up information\, arrival times\, and instructions for guests. \nLocation: Dubose Porter Business and Industry Training Center Date & Time: Thursday\, June 3\, 7PM \nFor more information\, visit the Graduation Information page or contact the Registrar’s Office.
URL:https://oftc.edu/event/commencement-south-spring-2027/
LOCATION:Dublin Campus\, 560 Pinehill Road\, Dublin\, GA\, 31021\, United States
CATEGORIES:Community Event,Important Dates for Faculty/Staff,Key Academic Dates
ATTACH;FMTTYPE=image/webp:https://oftc.edu/wp-content/uploads/2025/05/Commencement.webp
END:VEVENT
END:VCALENDAR