BEGIN:VCALENDAR
VERSION:2.0
PRODID:-//Oconee Fall Line Technical College - ECPv6.13.1//NONSGML v1.0//EN
CALSCALE:GREGORIAN
METHOD:PUBLISH
X-WR-CALNAME:Oconee Fall Line Technical College
X-ORIGINAL-URL:https://oftc.edu
X-WR-CALDESC:Events for Oconee Fall Line Technical College
REFRESH-INTERVAL;VALUE=DURATION:PT1H
X-Robots-Tag:noindex
X-PUBLISHED-TTL:PT1H
BEGIN:VTIMEZONE
TZID:America/New_York
BEGIN:DAYLIGHT
TZOFFSETFROM:-0500
TZOFFSETTO:-0400
TZNAME:EDT
DTSTART:20260308T070000
END:DAYLIGHT
BEGIN:STANDARD
TZOFFSETFROM:-0400
TZOFFSETTO:-0500
TZNAME:EST
DTSTART:20261101T060000
END:STANDARD
BEGIN:DAYLIGHT
TZOFFSETFROM:-0500
TZOFFSETTO:-0400
TZNAME:EDT
DTSTART:20270314T070000
END:DAYLIGHT
BEGIN:STANDARD
TZOFFSETFROM:-0400
TZOFFSETTO:-0500
TZNAME:EST
DTSTART:20271107T060000
END:STANDARD
END:VTIMEZONE
BEGIN:VEVENT
DTSTART;VALUE=DATE:20260908
DTEND;VALUE=DATE:20260926
DTSTAMP:20260419T144931
CREATED:20260324T140908Z
LAST-MODIFIED:20260324T140917Z
UID:5836-1788825600-1790380799@oftc.edu
SUMMARY:OAC Meetings (Fall)
DESCRIPTION:OFTC’s Occupational Advisory Committees bring industry experts and educators together to ensure our programs meet workforce needs. These meetings provide valuable input to keep our curriculum relevant and our graduates career-ready\, and take place during this time frame.
URL:https://oftc.edu/event/oac-meetings-3/
CATEGORIES:Important Dates for Faculty/Staff
END:VEVENT
BEGIN:VEVENT
DTSTART;VALUE=DATE:20270607
DTEND;VALUE=DATE:20270731
DTSTAMP:20260419T144931
CREATED:20260324T174818Z
LAST-MODIFIED:20260324T174818Z
UID:5866-1812326400-1816991999@oftc.edu
SUMMARY:Advanced Registration - Fall 2027
DESCRIPTION:Current OFTC students have the first opportunity to register for next semester’s classes during Advanced Registration. Be sure to meet with your advisor ahead of time—advisor approval is required before you can register. \nLearn more about the Academic Advisement process and how your advisor can help you succeed!
URL:https://oftc.edu/event/advanced-registration-fall-2027/
CATEGORIES:Key Academic Dates
ATTACH;FMTTYPE=image/webp:https://oftc.edu/wp-content/uploads/2025/05/AdvancedRegistration.webp
ORGANIZER;CN="OFTC%E2%80%99s Admission Office":MAILTO:admissions@oftc.edu
END:VEVENT
BEGIN:VEVENT
DTSTART;VALUE=DATE:20270621
DTEND;VALUE=DATE:20270622
DTSTAMP:20260419T144931
CREATED:20260324T105925Z
LAST-MODIFIED:20260324T105925Z
UID:5808-1813536000-1813622399@oftc.edu
SUMMARY:New Student Registration Begins – Fall 2027
DESCRIPTION:Ready to get started at OFTC? This is your day to register for classes\, meet with advisors\, and take the next step toward your future career. \nCurrently Enrolled Students\nHow to Register for Classes \nFor Students Applying for Enrollment\nBefore registering\, make sure you’ve applied for admission and completed any necessary steps like financial aid or assessment testing. \nExplore programs: oftc.edu/programsQuestions? Contact Admissions at 478-553-2064 or 478-274-7837Email: admissions@oftc.edu \nStill have questions? Everything you need to GET STARTED is right here! \n 
URL:https://oftc.edu/event/new-student-registration-begins-fall-2027-2/
CATEGORIES:Key Academic Dates
ATTACH;FMTTYPE=image/webp:https://oftc.edu/wp-content/uploads/2025/05/NewStudentRegistration.webp
ORGANIZER;CN="OFTC%E2%80%99s Admission Office":MAILTO:admissions@oftc.edu
END:VEVENT
BEGIN:VEVENT
DTSTART;VALUE=DATE:20270621
DTEND;VALUE=DATE:20270622
DTSTAMP:20260419T144931
CREATED:20260324T174330Z
LAST-MODIFIED:20260324T174330Z
UID:5863-1813536000-1813622399@oftc.edu
SUMMARY:NelNet Payment Plans Opens – Fall 2027 (AY28)
DESCRIPTION:Need help budgeting your tuition payments? OFTC offers an easy way to pay over time! \nWe’ve partnered with NelNet\, a trusted payment plan provider\, to give students the option to break tuition costs into smaller\, manageable payments throughout the semester. \nLearn more & get started ➡️: Payment Plans
URL:https://oftc.edu/event/nelnet-payment-plans-opens-fall-2027-ay28/
CATEGORIES:Key Academic Dates
ATTACH;FMTTYPE=image/png:https://oftc.edu/wp-content/uploads/2025/05/Nelnet.png
END:VEVENT
BEGIN:VEVENT
DTSTART;VALUE=DATE:20270802
DTEND;VALUE=DATE:20270803
DTSTAMP:20260419T144931
CREATED:20260323T181908Z
LAST-MODIFIED:20260323T181908Z
UID:5771-1817164800-1817251199@oftc.edu
SUMMARY:New Student Registration Day - Fall 2027
DESCRIPTION:We’re staying open late to help you get registered! This special registration event is perfect for working students and busy families. \nTime:▪️ Dublin & Sandersville: 2–7 PM▪️ Jefferson: 5–7 PM \nLocation: Find Your Nearest Campus \nWhether you’re a new student ready to begin or a returning student finalizing your schedule\, our team is here to assist with admissions\, financial aid\, testing\, and more. \n➡️ Get started \nNeed help?Call 478-553-2064 or 478-274-7837Email: admissions@oftc.edu
URL:https://oftc.edu/event/new-student-registration-day-fall-2027/
CATEGORIES:Important Dates for Faculty/Staff,Key Academic Dates
ATTACH;FMTTYPE=image/webp:https://oftc.edu/wp-content/uploads/2025/05/AY25-New-Student-Reg-Day-Event-Thumbnail-FALL.webp
ORGANIZER;CN="OFTC%E2%80%99s Admission Office":MAILTO:admissions@oftc.edu
END:VEVENT
BEGIN:VEVENT
DTSTART;VALUE=DATE:20270802
DTEND;VALUE=DATE:20270803
DTSTAMP:20260419T144931
CREATED:20260323T174725Z
LAST-MODIFIED:20260323T174742Z
UID:5768-1817164800-1817251199@oftc.edu
SUMMARY:Grades Due – 12 Noon – Summer 2027
DESCRIPTION:
URL:https://oftc.edu/event/grades-due-12-noon-summer-2027/
CATEGORIES:Important Dates for Faculty/Staff,Key Academic Dates
END:VEVENT
BEGIN:VEVENT
DTSTART;VALUE=DATE:20270803
DTEND;VALUE=DATE:20270804
DTSTAMP:20260419T144931
CREATED:20260324T181958Z
LAST-MODIFIED:20260324T181958Z
UID:5876-1817251200-1817337599@oftc.edu
SUMMARY:Academic Affairs Planning Day
DESCRIPTION:OFTC’s Academic Affairs Planning DayOFTC’s Academic Affairs Division will hold a dedicated planning day focused on collaboration\, strategic goal setting\, and academic alignment. This event brings faculty and academic staff together to review priorities\, plan for the upcoming term\, and strengthen efforts that support student success.
URL:https://oftc.edu/event/academic-affairs-planning-day-2/
CATEGORIES:Important Dates for Faculty/Staff
END:VEVENT
BEGIN:VEVENT
DTSTART;VALUE=DATE:20270823
DTEND;VALUE=DATE:20270824
DTSTAMP:20260419T144931
CREATED:20260324T182133Z
LAST-MODIFIED:20260324T182133Z
UID:5877-1818979200-1819065599@oftc.edu
SUMMARY:Classes Begin - Terms A & B – Fall 2027
DESCRIPTION:Welcome to OFTC — It’s the First Day of Class!We’re so glad you’re here! Start your semester strong with these helpful tips: \n✅ Log in to myOFTC — your one-stop hub for student tools and resources✅ Set up your OFTC student email on your phone for quick\, easy access✅ Explore oftc.edu — find important info\, deadlines\, and support services \nNeed assistance?The Registrar’s Office will be open until 7 PM on the first and second day of classes to help with registration\, schedules\, and more. \nLet’s make it a great semester!
URL:https://oftc.edu/event/classes-begin-terms-a-b-fall-2027/
CATEGORIES:Important Dates for Faculty/Staff,Key Academic Dates
ATTACH;FMTTYPE=image/webp:https://oftc.edu/wp-content/uploads/2025/05/1stDayClass.webp
END:VEVENT
END:VCALENDAR