BEGIN:VCALENDAR
VERSION:2.0
PRODID:-//Oconee Fall Line Technical College - ECPv6.13.1//NONSGML v1.0//EN
CALSCALE:GREGORIAN
METHOD:PUBLISH
X-ORIGINAL-URL:https://oftc.edu
X-WR-CALDESC:Events for Oconee Fall Line Technical College
REFRESH-INTERVAL;VALUE=DURATION:PT1H
X-Robots-Tag:noindex
X-PUBLISHED-TTL:PT1H
BEGIN:VTIMEZONE
TZID:America/New_York
BEGIN:DAYLIGHT
TZOFFSETFROM:-0500
TZOFFSETTO:-0400
TZNAME:EDT
DTSTART:20260308T070000
END:DAYLIGHT
BEGIN:STANDARD
TZOFFSETFROM:-0400
TZOFFSETTO:-0500
TZNAME:EST
DTSTART:20261101T060000
END:STANDARD
END:VTIMEZONE
BEGIN:VEVENT
DTSTART;VALUE=DATE:20260910
DTEND;VALUE=DATE:20260911
DTSTAMP:20260424T044723
CREATED:20260324T133643Z
LAST-MODIFIED:20260324T135819Z
UID:5827-1788998400-1789084799@oftc.edu
SUMMARY:Pell Funds Reimbursed – Terms A & B – Fall 2026
DESCRIPTION:💰 Pell Grant refunds are issued on this date!\nIf you have remaining financial aid after tuition and fees\, your refund will be processed and sent to you.\nOFTC delivers your refund with BankMobile Disbursements\, a technology solution powered by BMTX\, Inc.\nLearn more: Bank Mobile Disbursements
URL:https://oftc.edu/event/pell-funds-reimbursed-terms-a-b-fall-2026/
LOCATION:GA
CATEGORIES:Key Academic Dates
END:VEVENT
BEGIN:VEVENT
DTSTART;VALUE=DATE:20260914
DTEND;VALUE=DATE:20260915
DTSTAMP:20260424T044723
CREATED:20260324T142741Z
LAST-MODIFIED:20260324T142741Z
UID:5838-1789344000-1789430399@oftc.edu
SUMMARY:Financial Aid Priority Date - Minimester/Term C – Fall 2026
DESCRIPTION:Students are encouraged to submit their financial aid applications by the priority date to ensure funds are awarded before the start of the semester. OFTC accepts applications year-round\, but if aid isn’t awarded in time\, tuition and fees may need to be paid out of pocket. \n➡️ Learn more about Financial Aid \nContact Financial Aid: \n\nSandersville Campus: 478-553-2131\nDublin Campus: 478-274-7833 or 478-274-7940\nVA Info: 478-240-5161\nFederal Work Study: 478-240-5162 or 478-274-7836\n\nAdditional info can be found in the OFTC Catalog.
URL:https://oftc.edu/event/financial-aid-priority-date-minimester-term-c-fall-2026/
LOCATION:GA
CATEGORIES:Key Academic Dates
ATTACH;FMTTYPE=image/webp:https://oftc.edu/wp-content/uploads/2025/05/FinancialAidPriority.webp
ORGANIZER;CN="OFTC%E2%80%99s Admission Office":MAILTO:admissions@oftc.edu
END:VEVENT
BEGIN:VEVENT
DTSTART;VALUE=DATE:20260915
DTEND;VALUE=DATE:20260916
DTSTAMP:20260424T044723
CREATED:20260323T161431Z
LAST-MODIFIED:20260323T175117Z
UID:5745-1789430400-1789516799@oftc.edu
SUMMARY:Tech on Tuesday
DESCRIPTION:Thinking about college? Join us for Tech on Tuesday\, held the third Tuesday of every month (except in November & December) at OFTC! \n✅ Meet with Admissions & Financial Aid✅ Explore program options & take a tour✅ Learn about testing & next steps✅ No appointment needed—just show up! \nEvent Times:• Sandersville & Dublin: 10AM–6PM• Jefferson: 2–4PM \nDiscover all of OFTC’s Programs of Study \nNeed help? Contact Admissions at 478-553-2064 or 478-274-7837Email: admissions@oftc.edu
URL:https://oftc.edu/event/tech-on-tuesday-4/
LOCATION:GA
CATEGORIES:Key Academic Dates
ATTACH;FMTTYPE=image/webp:https://oftc.edu/wp-content/uploads/2025/05/TechTuesday.webp
ORGANIZER;CN="OFTC%E2%80%99s Admission Office":MAILTO:admissions@oftc.edu
END:VEVENT
BEGIN:VEVENT
DTSTART;TZID=America/New_York:20260917T100000
DTEND;TZID=America/New_York:20260917T130000
DTSTAMP:20260424T044723
CREATED:20260413T191819Z
LAST-MODIFIED:20260413T191819Z
UID:5987-1789639200-1789650000@oftc.edu
SUMMARY:One Stop Enrollment Day - Fall Minimester 2026 (All Campuses)
DESCRIPTION:Take care of admissions\, financial aid\, and registration in one visit! Your time is valuable\, that’s why we want to make it as simple as we can for you to get started on your path to a successful career. So\, come by and see us during one of our One Stop Enrollment Days & you’ll be on your way to a successful career in no time at all. It just takes one visit to get started! \nStudents who enroll during this event will pay NO admission fee! \nLearn more at OFTC.edu/OneStop
URL:https://oftc.edu/event/one-stop-enrollment-day-fall-minimester-2026-all-campuses/
LOCATION:GA
CATEGORIES:Community Event,Important Dates for Faculty/Staff,Key Academic Dates
ATTACH;FMTTYPE=image/webp:https://oftc.edu/wp-content/uploads/2025/05/AY24-FALL-Minimester-One-Stop-Event-1.webp
ORGANIZER;CN="OFTC%E2%80%99s Admission Office":MAILTO:admissions@oftc.edu
END:VEVENT
BEGIN:VEVENT
DTSTART;TZID=America/New_York:20260924T190000
DTEND;TZID=America/New_York:20260924T200000
DTSTAMP:20260424T044723
CREATED:20260324T150138Z
LAST-MODIFIED:20260324T150138Z
UID:5842-1790276400-1790280000@oftc.edu
SUMMARY:Commencement – North Campus - Fall 2026
DESCRIPTION:Commencement Ceremony \nWe look forward to celebrating your achievements at OFTC’s Commencement Ceremony! This special occasion honors the hard work and dedication of our graduates as they take the next step in their journey. \nGraduates should check their OFTC email regularly for important updates\, including cap & gown details\, arrival times\, tickets\, and instructions for guests. \nLocation: Ben J. Tarbutton Jr. Business Development CenterDate & Time: Thursday\, September 24\, 7PM \nFor more information\, visit the Graduation Information page or contact the Registrar’s Office.
URL:https://oftc.edu/event/commencement-north-campus-fall-2026/
LOCATION:Sandersville Campus\, 1189 Deepstep Road\, Sandersville\, GA\, 31082\, United States
CATEGORIES:Community Event,Important Dates for Faculty/Staff,Key Academic Dates
ATTACH;FMTTYPE=image/webp:https://oftc.edu/wp-content/uploads/2025/05/Commencement.webp
END:VEVENT
BEGIN:VEVENT
DTSTART;VALUE=DATE:20260930
DTEND;VALUE=DATE:20261001
DTSTAMP:20260424T044723
CREATED:20260324T151031Z
LAST-MODIFIED:20260324T151031Z
UID:5844-1790726400-1790812799@oftc.edu
SUMMARY:Withdrawal Deadline – Term B – Fall 2026
DESCRIPTION:
URL:https://oftc.edu/event/withdrawal-deadline-term-b-fall-2026/
LOCATION:GA
CATEGORIES:Key Academic Dates
END:VEVENT
END:VCALENDAR