BEGIN:VCALENDAR
VERSION:2.0
PRODID:-//Oconee Fall Line Technical College - ECPv6.13.1//NONSGML v1.0//EN
CALSCALE:GREGORIAN
METHOD:PUBLISH
X-WR-CALNAME:Oconee Fall Line Technical College
X-ORIGINAL-URL:https://oftc.edu
X-WR-CALDESC:Events for Oconee Fall Line Technical College
REFRESH-INTERVAL;VALUE=DURATION:PT1H
X-Robots-Tag:noindex
X-PUBLISHED-TTL:PT1H
BEGIN:VTIMEZONE
TZID:America/New_York
BEGIN:DAYLIGHT
TZOFFSETFROM:-0500
TZOFFSETTO:-0400
TZNAME:EDT
DTSTART:20260308T070000
END:DAYLIGHT
BEGIN:STANDARD
TZOFFSETFROM:-0400
TZOFFSETTO:-0500
TZNAME:EST
DTSTART:20261101T060000
END:STANDARD
END:VTIMEZONE
BEGIN:VEVENT
DTSTART;VALUE=DATE:20260622
DTEND;VALUE=DATE:20260801
DTSTAMP:20260421T195600
CREATED:20250519T202237Z
LAST-MODIFIED:20260323T153431Z
UID:3794-1782086400-1785542399@oftc.edu
SUMMARY:Advanced Registration - Fall 2026
DESCRIPTION:Current OFTC students have the first opportunity to register for next semester’s classes during Advanced Registration. Be sure to meet with your advisor ahead of time—advisor approval is required before you can register. \nLearn more about the Academic Advisement process and how your advisor can help you succeed!
URL:https://oftc.edu/event/advanced-registration-fall-2026/
LOCATION:GA
CATEGORIES:Key Academic Dates
ATTACH;FMTTYPE=image/webp:https://oftc.edu/wp-content/uploads/2025/05/AdvancedRegistration.webp
ORGANIZER;CN="OFTC%E2%80%99s Admission Office":MAILTO:admissions@oftc.edu
END:VEVENT
BEGIN:VEVENT
DTSTART;VALUE=DATE:20260706
DTEND;VALUE=DATE:20260707
DTSTAMP:20260421T195600
CREATED:20250522T152107Z
LAST-MODIFIED:20260323T154148Z
UID:4188-1783296000-1783382399@oftc.edu
SUMMARY:New Student Registration Begins – Fall 2026
DESCRIPTION:Ready to get started at OFTC? This is your day to register for classes\, meet with advisors\, and take the next step toward your future career. \nCurrently Enrolled Students\nHow to Register for Classes \nFor Students Applying for Enrollment\nBefore registering\, make sure you’ve applied for admission and completed any necessary steps like financial aid or assessment testing. \nExplore programs: oftc.edu/programsQuestions? Contact Admissions at 478-553-2064 or 478-274-7837Email: admissions@oftc.edu \nStill have questions? Everything you need to GET STARTED is right here! \n 
URL:https://oftc.edu/event/new-student-registration-begins-fall-2027/
LOCATION:GA
CATEGORIES:Key Academic Dates
ATTACH;FMTTYPE=image/webp:https://oftc.edu/wp-content/uploads/2025/05/NewStudentRegistration.webp
ORGANIZER;CN="OFTC%E2%80%99s Admission Office":MAILTO:admissions@oftc.edu
END:VEVENT
BEGIN:VEVENT
DTSTART;VALUE=DATE:20260706
DTEND;VALUE=DATE:20260707
DTSTAMP:20260421T195600
CREATED:20250522T152200Z
LAST-MODIFIED:20260323T160523Z
UID:4189-1783296000-1783382399@oftc.edu
SUMMARY:NelNet Payment Plans Opens – Fall 2026 (AY 2027)
DESCRIPTION:Need help budgeting your tuition payments? OFTC offers an easy way to pay over time! \nWe’ve partnered with Nelnet\, a trusted payment plan provider\, to give students the option to break tuition costs into smaller\, manageable payments throughout the semester. \nLearn more & get started ➡️: Payment Plans
URL:https://oftc.edu/event/nelnet-payment-plans-opens-fall-ay-2027/
LOCATION:GA
CATEGORIES:Key Academic Dates
ATTACH;FMTTYPE=image/png:https://oftc.edu/wp-content/uploads/2025/05/Nelnet.png
END:VEVENT
BEGIN:VEVENT
DTSTART;TZID=America/New_York:20260706T170000
DTEND;TZID=America/New_York:20260706T180000
DTSTAMP:20260421T195600
CREATED:20260420T184020Z
LAST-MODIFIED:20260420T184341Z
UID:5994-1783357200-1783360800@oftc.edu
SUMMARY:Imaging Science Info Session-July 6
DESCRIPTION:Attend a free information session! Sessions are open to students interested in exploring Radiologic Technology and Diagnostic Medical Sonography programs at OFTC. \nHowever\, to be eligible to compete for Diagnostic Medical Sonography or Radiologic Technology programs\, all applicants are REQUIRED to attend one Information Session either the term of or the term before their competitive selection deadline to be eligible for competition. \nAll sessions are at the OFTC Dublin Campus in Louie Livingston Hall (LLH) #102.
URL:https://oftc.edu/event/imaging-science-info-session-july/
LOCATION:Dublin Campus\, 560 Pinehill Road\, Dublin\, GA\, 31021\, United States
CATEGORIES:Community Event,Key Academic Dates,Student Event
ATTACH;FMTTYPE=image/png:https://oftc.edu/wp-content/uploads/2026/01/AY26-IMAGING-SCIENCE-INFO-SESSION-Event-Thumbnail.png
END:VEVENT
BEGIN:VEVENT
DTSTART;TZID=America/New_York:20260709T080000
DTEND;TZID=America/New_York:20260709T190000
DTSTAMP:20260421T195600
CREATED:20260413T191516Z
LAST-MODIFIED:20260413T191516Z
UID:5985-1783584000-1783623600@oftc.edu
SUMMARY:One Stop Enrollment Day - Fall 2026 (All Campuses)
DESCRIPTION:Take care of admissions\, financial aid\, and registration in one visit! Your time is valuable\, that’s why we want to make it as simple as we can for you to get started on your path to a successful career. So\, come by and see us during one of our One Stop Enrollment Days & you’ll be on your way to a successful career in no time at all. It just takes one visit to get started! \nStudents who enroll during this event will pay NO admission fee! \nLearn more at OFTC.edu/OneStop
URL:https://oftc.edu/event/one-stop-enrollment-day-fall-2026-all-campuses/
LOCATION:GA
CATEGORIES:Community Event,Important Dates for Faculty/Staff,Key Academic Dates
ATTACH;FMTTYPE=image/webp:https://oftc.edu/wp-content/uploads/2025/05/AY24-FALL-Minimester-One-Stop-Event-1.webp
ORGANIZER;CN="OFTC%E2%80%99s Admission Office":MAILTO:admissions@oftc.edu
END:VEVENT
BEGIN:VEVENT
DTSTART;VALUE=DATE:20260720
DTEND;VALUE=DATE:20260721
DTSTAMP:20260421T195600
CREATED:20250522T103319Z
LAST-MODIFIED:20250522T103319Z
UID:4151-1784505600-1784591999@oftc.edu
SUMMARY:Withdrawal Deadline  – Summer 2026
DESCRIPTION:
URL:https://oftc.edu/event/withdrawal-deadline-summer-2026/
LOCATION:GA
CATEGORIES:Key Academic Dates
END:VEVENT
BEGIN:VEVENT
DTSTART;VALUE=DATE:20260720
DTEND;VALUE=DATE:20260721
DTSTAMP:20260421T195600
CREATED:20260323T160815Z
LAST-MODIFIED:20260323T160959Z
UID:5742-1784505600-1784591999@oftc.edu
SUMMARY:Financial Aid Priority Date - Terms A & B - Fall 2026
DESCRIPTION:Students are encouraged to submit their financial aid applications by the priority date to ensure funds are awarded before the start of the semester. OFTC accepts applications year-round\, but if aid isn’t awarded in time\, tuition and fees may need to be paid out of pocket. \n➡️ Learn more about Financial Aid \nContact Financial Aid: \n\nSandersville Campus: 478-553-2131\nDublin Campus: 478-274-7833 or 478-274-7940\nVA Info: 478-240-5161\nFederal Work Study: 478-240-5162 or 478-274-7836\n\nAdditional info can be found in the OFTC Catalog.
URL:https://oftc.edu/event/financial-aid-priority-date-terms-a-b-fall-2026/
LOCATION:GA
CATEGORIES:Key Academic Dates
ATTACH;FMTTYPE=image/webp:https://oftc.edu/wp-content/uploads/2025/05/FinancialAidPriority.webp
END:VEVENT
BEGIN:VEVENT
DTSTART;VALUE=DATE:20260721
DTEND;VALUE=DATE:20260722
DTSTAMP:20260421T195600
CREATED:20260323T161233Z
LAST-MODIFIED:20260324T185907Z
UID:5743-1784592000-1784678399@oftc.edu
SUMMARY:Tech on Tuesday
DESCRIPTION:Thinking about college? Join us for Tech on Tuesday\, held the third Tuesday of every month (except in November & December) at OFTC! \n✅ Meet with Admissions & Financial Aid✅ Explore program options & take a tour✅ Learn about testing & next steps✅ No appointment needed—just show up! \nEvent Times:• Sandersville & Dublin: 10AM–6PM• Jefferson: 2–4PM \nDiscover all of OFTC’s Programs of Study \nNeed help? Contact Admissions at 478-553-2064 or 478-274-7837Email: admissions@oftc.edu
URL:https://oftc.edu/event/tech-on-tuesday-2/
LOCATION:GA
CATEGORIES:Key Academic Dates
ATTACH;FMTTYPE=image/webp:https://oftc.edu/wp-content/uploads/2025/05/TechTuesday.webp
ORGANIZER;CN="OFTC%E2%80%99s Admission Office":MAILTO:admissions@oftc.edu
END:VEVENT
BEGIN:VEVENT
DTSTART;TZID=America/New_York:20260725T100000
DTEND;TZID=America/New_York:20260725T130000
DTSTAMP:20260421T195600
CREATED:20260413T191651Z
LAST-MODIFIED:20260413T191651Z
UID:5986-1784973600-1784984400@oftc.edu
SUMMARY:One Stop Enrollment Day - Fall 2026 (All Campuses)
DESCRIPTION:Take care of admissions\, financial aid\, and registration in one visit! Your time is valuable\, that’s why we want to make it as simple as we can for you to get started on your path to a successful career. So\, come by and see us during one of our One Stop Enrollment Days & you’ll be on your way to a successful career in no time at all. It just takes one visit to get started! \nStudents who enroll during this event will pay NO admission fee! \nLearn more at OFTC.edu/OneStop
URL:https://oftc.edu/event/one-stop-enrollment-day-fall-2026-all-campuses-2/
LOCATION:GA
CATEGORIES:Community Event,Important Dates for Faculty/Staff,Key Academic Dates
ATTACH;FMTTYPE=image/webp:https://oftc.edu/wp-content/uploads/2025/05/AY24-FALL-Minimester-One-Stop-Event-1.webp
ORGANIZER;CN="OFTC%E2%80%99s Admission Office":MAILTO:admissions@oftc.edu
END:VEVENT
BEGIN:VEVENT
DTSTART;TZID=America/New_York:20260727T123000
DTEND;TZID=America/New_York:20260727T133000
DTSTAMP:20260421T195600
CREATED:20260420T184312Z
LAST-MODIFIED:20260420T184319Z
UID:5995-1785155400-1785159000@oftc.edu
SUMMARY:Imaging Science Info Session-July 27
DESCRIPTION:Attend a free information session! Sessions are open to students interested in exploring Radiologic Technology and Diagnostic Medical Sonography programs at OFTC. \nHowever\, to be eligible to compete for Diagnostic Medical Sonography or Radiologic Technology programs\, all applicants are REQUIRED to attend one Information Session either the term of or the term before their competitive selection deadline to be eligible for competition. \n**This is the last opportunity to attend an Imaging Science Information Session for those wishing to compete for OFTC’s Fall 2026 Diagnostic Medical Sonography Program.** \nAll sessions are at the OFTC Dublin Campus in Louie Livingston Hall (LLH) #102.
URL:https://oftc.edu/event/imaging-science-info-session-july-27/
LOCATION:Dublin Campus\, 560 Pinehill Road\, Dublin\, GA\, 31021\, United States
CATEGORIES:Community Event,Key Academic Dates,Student Event
ATTACH;FMTTYPE=image/png:https://oftc.edu/wp-content/uploads/2026/01/AY26-IMAGING-SCIENCE-INFO-SESSION-Event-Thumbnail.png
END:VEVENT
BEGIN:VEVENT
DTSTART;VALUE=DATE:20260731
DTEND;VALUE=DATE:20260801
DTSTAMP:20260421T195600
CREATED:20250520T130256Z
LAST-MODIFIED:20250522T172246Z
UID:4020-1785456000-1785542399@oftc.edu
SUMMARY:Classes End - Summer 2026
DESCRIPTION:
URL:https://oftc.edu/event/classes-end-terms-a-c-fall-2025/
LOCATION:GA
CATEGORIES:Key Academic Dates
ATTACH;FMTTYPE=image/png:https://oftc.edu/wp-content/uploads/2025/05/LAST-DAY-OF-CLASSES.png
END:VEVENT
BEGIN:VEVENT
DTSTART;VALUE=DATE:20260731
DTEND;VALUE=DATE:20260801
DTSTAMP:20260421T195600
CREATED:20250522T112330Z
LAST-MODIFIED:20250522T112330Z
UID:4160-1785456000-1785542399@oftc.edu
SUMMARY:Transient/Transfer Student Priority Date - Fall 2026
DESCRIPTION:
URL:https://oftc.edu/event/transient-transfer-student-priority-date-fall-2026/
LOCATION:GA
CATEGORIES:Key Academic Dates
END:VEVENT
BEGIN:VEVENT
DTSTART;VALUE=DATE:20260731
DTEND;VALUE=DATE:20260801
DTSTAMP:20260421T195600
CREATED:20250522T142821Z
LAST-MODIFIED:20250522T142821Z
UID:4180-1785456000-1785542399@oftc.edu
SUMMARY:Spring 2025 Semester Incomplete Deadline
DESCRIPTION:
URL:https://oftc.edu/event/spring-2025-semester-incomplete-deadline/
LOCATION:GA
CATEGORIES:Key Academic Dates
END:VEVENT
BEGIN:VEVENT
DTSTART;VALUE=DATE:20260731
DTEND;VALUE=DATE:20260801
DTSTAMP:20260421T195600
CREATED:20250522T152502Z
LAST-MODIFIED:20250522T152502Z
UID:4190-1785456000-1785542399@oftc.edu
SUMMARY:Graduation Application Deadline – Fall 2026
DESCRIPTION:
URL:https://oftc.edu/event/graduation-application-deadline-fall-2026/
LOCATION:GA
CATEGORIES:Important Dates for Faculty/Staff,Key Academic Dates
END:VEVENT
BEGIN:VEVENT
DTSTART;VALUE=DATE:20260731
DTEND;VALUE=DATE:20260801
DTSTAMP:20260421T195600
CREATED:20260323T163526Z
LAST-MODIFIED:20260323T163526Z
UID:5754-1785456000-1785542399@oftc.edu
SUMMARY:Spring 2026 Semester Incomplete Deadline
DESCRIPTION:
URL:https://oftc.edu/event/spring-2026-semester-incomplete-deadline/
LOCATION:GA
CATEGORIES:Key Academic Dates
END:VEVENT
END:VCALENDAR