BEGIN:VCALENDAR
VERSION:2.0
PRODID:-//Oconee Fall Line Technical College - ECPv6.13.1//NONSGML v1.0//EN
CALSCALE:GREGORIAN
METHOD:PUBLISH
X-ORIGINAL-URL:https://oftc.edu
X-WR-CALDESC:Events for Oconee Fall Line Technical College
REFRESH-INTERVAL;VALUE=DURATION:PT1H
X-Robots-Tag:noindex
X-PUBLISHED-TTL:PT1H
BEGIN:VTIMEZONE
TZID:America/New_York
BEGIN:DAYLIGHT
TZOFFSETFROM:-0500
TZOFFSETTO:-0400
TZNAME:EDT
DTSTART:20250309T070000
END:DAYLIGHT
BEGIN:STANDARD
TZOFFSETFROM:-0400
TZOFFSETTO:-0500
TZNAME:EST
DTSTART:20251102T060000
END:STANDARD
END:VTIMEZONE
BEGIN:VEVENT
DTSTART;TZID=America/New_York:20250918T080000
DTEND;TZID=America/New_York:20250918T190000
DTSTAMP:20260421T151414
CREATED:20250522T203035Z
LAST-MODIFIED:20250709T181145Z
UID:4199-1758182400-1758222000@oftc.edu
SUMMARY:One Stop Enrollment Day - Fall Minimester 2025 (ALL Campuses)
DESCRIPTION:Take care of admissions\, financial aid\, and registration in one visit! Your time is valuable\, that’s why we want to make it as simple as we can for you to get started on your path to a successful career. So\, come by and see us during one of our One Stop Enrollment Days & you’ll be on your way to a successful career in no time at all. It just takes one visit to get started! \nStudents who enroll during this event will pay NO admission fee!
URL:https://oftc.edu/event/one-stop-enrollment-day-fall-minimester-2025-all-campuses/
LOCATION:Dublin Campus\, 560 Pinehill Road\, Dublin\, GA\, 31021\, United States
CATEGORIES:Community Event,Important Dates for Faculty/Staff,Key Academic Dates
ATTACH;FMTTYPE=image/webp:https://oftc.edu/wp-content/uploads/2025/05/AY24-FALL-Minimester-One-Stop-Event-1.webp
ORGANIZER;CN="OFTC%E2%80%99s Admission Office":MAILTO:admissions@oftc.edu
END:VEVENT
BEGIN:VEVENT
DTSTART;TZID=America/New_York:20250908T080000
DTEND;TZID=America/New_York:20250926T170000
DTSTAMP:20260421T151414
CREATED:20250522T105441Z
LAST-MODIFIED:20250522T105441Z
UID:4154-1757318400-1758906000@oftc.edu
SUMMARY:OAC Meetings
DESCRIPTION:OFTC’s Occupational Advisory Committees bring industry experts and educators together to ensure our programs meet workforce needs. These meetings provide valuable input to keep our curriculum relevant and our graduates career-ready\, and take place during this time frame.
URL:https://oftc.edu/event/oac-meetings/
CATEGORIES:Important Dates for Faculty/Staff
END:VEVENT
BEGIN:VEVENT
DTSTART;VALUE=DATE:20250825
DTEND;VALUE=DATE:20250826
DTSTAMP:20260421T151414
CREATED:20250520T180231Z
LAST-MODIFIED:20250520T180905Z
UID:4065-1756080000-1756166399@oftc.edu
SUMMARY:Classes Begin – Dual Enrollment Cohorts - Fall 2025
DESCRIPTION:Welcome\, Dual Enrollment Students!It’s the first day of class for our general dual enrollment cohorts— we’re excited to have you at OFTC! \nHere are a few quick tips to get started strong:✅ Log in to myOFTC — your go-to hub for student resources✅ Set up your OFTC student email on your phone for easy access✅ Explore oftc.edu for helpful tools\, deadlines\, and student info \nNeed help?Reach out to your OFTC Dual Enrollment Coordinator or your course instructor for support. \nLet’s make it a great semester — your career journey starts now! ?
URL:https://oftc.edu/event/classes-begin-dual-enrollment-cohorts-fall-2025/
CATEGORIES:Important Dates for Faculty/Staff,Key Academic Dates
ATTACH;FMTTYPE=image/webp:https://oftc.edu/wp-content/uploads/2025/05/1stDayClass-DE.webp
END:VEVENT
BEGIN:VEVENT
DTSTART;VALUE=DATE:20250825
DTEND;VALUE=DATE:20250826
DTSTAMP:20260421T151414
CREATED:20250520T174844Z
LAST-MODIFIED:20250522T172133Z
UID:4060-1756080000-1756166399@oftc.edu
SUMMARY:Classes Begin - Terms A & B – Fall 2025
DESCRIPTION:Welcome to OFTC — It’s the First Day of Class! ?We’re so glad you’re here! Start your semester strong with these helpful tips: \n✅ Log in to myOFTC — your one-stop hub for student tools and resources✅ Set up your OFTC student email on your phone for quick\, easy access✅ Explore oftc.edu — find important info\, deadlines\, and support services \nNeed assistance?The Registrar’s Office will be open until 7 PM on the first and second day of classes to help with registration\, schedules\, and more. \nLet’s make it a great semester!
URL:https://oftc.edu/event/classes-begin/
CATEGORIES:Important Dates for Faculty/Staff,Key Academic Dates
ATTACH;FMTTYPE=image/webp:https://oftc.edu/wp-content/uploads/2025/05/1stDayClass.webp
END:VEVENT
BEGIN:VEVENT
DTSTART;VALUE=DATE:20250813
DTEND;VALUE=DATE:20250814
DTSTAMP:20260421T151414
CREATED:20250520T163033Z
LAST-MODIFIED:20250520T163033Z
UID:4058-1755043200-1755129599@oftc.edu
SUMMARY:Classes Begin – Dual Enrollment Cohorts for Salon & Spa Support Specialist and Nurse Aide - Fall 2025
DESCRIPTION:Welcome\, Dual Enrollment Students!It’s the first day of class for our Salon & Spa Support Specialist and Nurse Aide cohorts — we’re excited to have you at OFTC! \nHere are a few quick tips to get started strong:✅ Log in to myOFTC — your go-to hub for student resources✅ Set up your OFTC student email on your phone for easy access✅ Explore oftc.edu for helpful tools\, deadlines\, and student info \nNeed help?Reach out to your OFTC Dual Enrollment Coordinator or your course instructor for support. \nLet’s make it a great semester — your career journey starts now! ?
URL:https://oftc.edu/event/classes-begin-dual-enrollment-cohorts-for-salon-spa-support-specialist-and-nurse-aide-fall-2025/
CATEGORIES:Important Dates for Faculty/Staff,Key Academic Dates
ATTACH;FMTTYPE=image/webp:https://oftc.edu/wp-content/uploads/2025/05/1stDayClass-DE.webp
END:VEVENT
BEGIN:VEVENT
DTSTART;VALUE=DATE:20250805
DTEND;VALUE=DATE:20250818
DTSTAMP:20260421T151414
CREATED:20250520T160556Z
LAST-MODIFIED:20250721T142726Z
UID:4050-1754352000-1755475199@oftc.edu
SUMMARY:Available for Faculty Leave
DESCRIPTION:
URL:https://oftc.edu/event/available-for-faculty-leave/
CATEGORIES:Important Dates for Faculty/Staff
ATTACH;FMTTYPE=image/jpeg:https://oftc.edu/wp-content/uploads/2025/05/Available-for-Faculy-Leave_web.jpeg
END:VEVENT
BEGIN:VEVENT
DTSTART;VALUE=DATE:20250804
DTEND;VALUE=DATE:20250805
DTSTAMP:20260421T151414
CREATED:20250520T143414Z
LAST-MODIFIED:20250721T134537Z
UID:4036-1754265600-1754351999@oftc.edu
SUMMARY:Grades Due – Summer 2025 – 12 noon
DESCRIPTION:
URL:https://oftc.edu/event/grades-due-summer-2025-12-noon/
CATEGORIES:Important Dates for Faculty/Staff,Key Academic Dates
ATTACH;FMTTYPE=image/jpeg:https://oftc.edu/wp-content/uploads/2025/05/FY26-Web-Calendar_Random-Events-2-Transient-Transfer-Student-Priority-Deadline.jpeg
END:VEVENT
BEGIN:VEVENT
DTSTART;VALUE=DATE:20250804
DTEND;VALUE=DATE:20250805
DTSTAMP:20260421T151414
CREATED:20250520T155821Z
LAST-MODIFIED:20250522T164910Z
UID:4046-1754265600-1754351999@oftc.edu
SUMMARY:New Student Registration Day - Fall 2025
DESCRIPTION:We’re staying open late to help you get registered! This special registration event is perfect for working students and busy families. \n? Time:▪️ Dublin & Sandersville: 2–7 PM▪️ Jefferson: 5–7 PM \n? Location: Find Your Nearest Campus \nWhether you’re a new student ready to begin or a returning student finalizing your schedule\, our team is here to assist with admissions\, financial aid\, testing\, and more. \n➡️ Get started \n? Need help?Call 478-553-2064 or 478-274-7837? Email: admissions@oftc.edu
URL:https://oftc.edu/event/new-student-registration-day-fall-2025/
LOCATION:Dublin Campus\, 560 Pinehill Road\, Dublin\, GA\, 31021\, United States
CATEGORIES:Important Dates for Faculty/Staff,Key Academic Dates
ATTACH;FMTTYPE=image/webp:https://oftc.edu/wp-content/uploads/2025/05/AY25-New-Student-Reg-Day-Event-Thumbnail-FALL.webp
ORGANIZER;CN="OFTC%E2%80%99s Admission Office":MAILTO:admissions@oftc.edu
END:VEVENT
BEGIN:VEVENT
DTSTART;TZID=America/New_York:20250802T100000
DTEND;TZID=America/New_York:20250802T130000
DTSTAMP:20260421T151414
CREATED:20250522T202710Z
LAST-MODIFIED:20250522T203111Z
UID:4198-1754128800-1754139600@oftc.edu
SUMMARY:One Stop Enrollment Day - Fall 2025 (Sandersville & Jefferson)
DESCRIPTION:Take care of admissions\, financial aid\, and registration in one visit! Your time is valuable\, that’s why we want to make it as simple as we can for you to get started on your path to a successful career. So\, come by and see us during one of our One Stop Enrollment Days & you’ll be on your way to a successful career in no time at all. It just takes one visit to get started! \nStudents who enroll during this event will pay NO admission fee!
URL:https://oftc.edu/event/one-stop-enrollment-day-fall-2025-sandersville-jefferson/
LOCATION:Jefferson Center\, 1157 Warrior Trail\, Louisville\, GA\, 30434\, United States
CATEGORIES:Community Event,Important Dates for Faculty/Staff,Key Academic Dates
ATTACH;FMTTYPE=image/webp:https://oftc.edu/wp-content/uploads/2025/05/AY24-FALL-Minimester-One-Stop-Event-1.webp
ORGANIZER;CN="OFTC%E2%80%99s Admission Office":MAILTO:admissions@oftc.edu
END:VEVENT
BEGIN:VEVENT
DTSTART;VALUE=DATE:20250801
DTEND;VALUE=DATE:20250802
DTSTAMP:20260421T151414
CREATED:20250520T142000Z
LAST-MODIFIED:20250721T130645Z
UID:4028-1754006400-1754092799@oftc.edu
SUMMARY:Graduation Application Deadline - Fall 2025
DESCRIPTION:
URL:https://oftc.edu/event/graduation-application-deadline-fall-2025/
CATEGORIES:Important Dates for Faculty/Staff,Key Academic Dates
ATTACH;FMTTYPE=image/jpeg:https://oftc.edu/wp-content/uploads/2025/05/Grad-App-Deadline_web-2.jpeg
END:VEVENT
BEGIN:VEVENT
DTSTART;TZID=America/New_York:20250726T100000
DTEND;TZID=America/New_York:20250726T130000
DTSTAMP:20260421T151414
CREATED:20250522T202453Z
LAST-MODIFIED:20250522T203219Z
UID:4197-1753524000-1753534800@oftc.edu
SUMMARY:One Stop Enrollment Day - Fall 2025 (Dublin Campus)
DESCRIPTION:Take care of admissions\, financial aid\, and registration in one visit! Your time is valuable\, that’s why we want to make it as simple as we can for you to get started on your path to a successful career. So\, come by and see us during one of our One Stop Enrollment Days & you’ll be on your way to a successful career in no time at all. It just takes one visit to get started! \nStudents who enroll during this event will pay NO admission fee!
URL:https://oftc.edu/event/one-stop-enrollment-day-fall-2025-dublin-campus/
LOCATION:Dublin Campus\, 560 Pinehill Road\, Dublin\, GA\, 31021\, United States
CATEGORIES:Community Event,Important Dates for Faculty/Staff,Key Academic Dates
ATTACH;FMTTYPE=image/webp:https://oftc.edu/wp-content/uploads/2025/05/AY24-FALL-Minimester-One-Stop-Event-1.webp
ORGANIZER;CN="OFTC%E2%80%99s Admission Office":MAILTO:admissions@oftc.edu
END:VEVENT
BEGIN:VEVENT
DTSTART;TZID=America/New_York:20250710T080000
DTEND;TZID=America/New_York:20250710T190000
DTSTAMP:20260421T151414
CREATED:20250522T202205Z
LAST-MODIFIED:20250522T203247Z
UID:4195-1752134400-1752174000@oftc.edu
SUMMARY:One Stop Enrollment Day  - Fall 2025 (ALL Campuses)
DESCRIPTION:Take care of admissions\, financial aid\, and registration in one visit! Your time is valuable\, that’s why we want to make it as simple as we can for you to get started on your path to a successful career. So\, come by and see us during one of our One Stop Enrollment Days & you’ll be on your way to a successful career in no time at all. It just takes one visit to get started! \nStudents who enroll during this event will pay NO admission fee!
URL:https://oftc.edu/event/one-stop-enrollment-day-fall-2025-all-campuses/
LOCATION:Dublin Campus\, 560 Pinehill Road\, Dublin\, GA\, 31021\, United States
CATEGORIES:Community Event,Important Dates for Faculty/Staff,Key Academic Dates
ATTACH;FMTTYPE=image/webp:https://oftc.edu/wp-content/uploads/2025/05/AY24-FALL-Minimester-One-Stop-Event-1.webp
ORGANIZER;CN="OFTC%E2%80%99s Admission Office":MAILTO:admissions@oftc.edu
END:VEVENT
END:VCALENDAR