BEGIN:VCALENDAR
VERSION:2.0
PRODID:-//Oconee Fall Line Technical College - ECPv6.13.1//NONSGML v1.0//EN
CALSCALE:GREGORIAN
METHOD:PUBLISH
X-WR-CALNAME:Oconee Fall Line Technical College
X-ORIGINAL-URL:https://oftc.edu
X-WR-CALDESC:Events for Oconee Fall Line Technical College
REFRESH-INTERVAL;VALUE=DURATION:PT1H
X-Robots-Tag:noindex
X-PUBLISHED-TTL:PT1H
BEGIN:VTIMEZONE
TZID:America/New_York
BEGIN:DAYLIGHT
TZOFFSETFROM:-0500
TZOFFSETTO:-0400
TZNAME:EDT
DTSTART:20260308T070000
END:DAYLIGHT
BEGIN:STANDARD
TZOFFSETFROM:-0400
TZOFFSETTO:-0500
TZNAME:EST
DTSTART:20261101T060000
END:STANDARD
BEGIN:DAYLIGHT
TZOFFSETFROM:-0500
TZOFFSETTO:-0400
TZNAME:EDT
DTSTART:20270314T070000
END:DAYLIGHT
BEGIN:STANDARD
TZOFFSETFROM:-0400
TZOFFSETTO:-0500
TZNAME:EST
DTSTART:20271107T060000
END:STANDARD
END:VTIMEZONE
BEGIN:VEVENT
DTSTART;TZID=America/New_York:20260604T190000
DTEND;TZID=America/New_York:20260604T200000
DTSTAMP:20260424T062656
CREATED:20250521T174831Z
LAST-MODIFIED:20260209T175314Z
UID:4145-1780599600-1780603200@oftc.edu
SUMMARY:Commencement – South – Spring 2026
DESCRIPTION:Commencement Ceremony \nWe look forward to celebrating your achievements at OFTC’s Commencement Ceremony! This special occasion honors the hard work and dedication of our graduates as they take the next step in their journey. *Please note\, this is a ticketed event. \nGraduates should check their OFTC email regularly for important updates\, including cap & gown details\, ticket pick-up information\, arrival times\, and instructions for guests. \nLocation: Dubose Porter Business and Industry Training Center Date & Time: Thursday\, June 5\, 7PM \nFor more information\, visit the Graduation Information page or contact the Registrar’s Office.
URL:https://oftc.edu/event/commencement-south-spring-2026/
LOCATION:Dublin Campus\, 560 Pinehill Road\, Dublin\, GA\, 31021\, United States
CATEGORIES:Community Event,Important Dates for Faculty/Staff,Key Academic Dates
ATTACH;FMTTYPE=image/webp:https://oftc.edu/wp-content/uploads/2025/05/Commencement.webp
END:VEVENT
BEGIN:VEVENT
DTSTART;VALUE=DATE:20260629
DTEND;VALUE=DATE:20260703
DTSTAMP:20260424T062656
CREATED:20250520T161156Z
LAST-MODIFIED:20250520T161156Z
UID:4055-1782691200-1783036799@oftc.edu
SUMMARY:Available for Faculty Leave
DESCRIPTION:
URL:https://oftc.edu/event/available-for-faculty-leave-5/
CATEGORIES:Important Dates for Faculty/Staff
END:VEVENT
BEGIN:VEVENT
DTSTART;VALUE=DATE:20260629
DTEND;VALUE=DATE:20260704
DTSTAMP:20260424T062656
CREATED:20250522T143554Z
LAST-MODIFIED:20250522T174401Z
UID:4184-1782691200-1783123199@oftc.edu
SUMMARY:Student Holidays: Summer Break 2026
DESCRIPTION:Student Summer BreakEnjoy your well-deserved break\, students! No classes will be held during this time. OFTC campuses will remain open with normal operating hours\, so stop by if you need assistance.
URL:https://oftc.edu/event/student-holidays-summer-break-2026/
CATEGORIES:Holidays & Breaks,Important Dates for Faculty/Staff
ATTACH;FMTTYPE=image/webp:https://oftc.edu/wp-content/uploads/2025/05/SummerBreak.webp
END:VEVENT
BEGIN:VEVENT
DTSTART;VALUE=DATE:20260703
DTEND;VALUE=DATE:20260704
DTSTAMP:20260424T062656
CREATED:20250522T143839Z
LAST-MODIFIED:20250522T174430Z
UID:4186-1783036800-1783123199@oftc.edu
SUMMARY:Staff Holiday: Independence Day 2026
DESCRIPTION:Independence Day – College ClosedOFTC will be closed on Friday\, July 3\, in observance of Independence Day on July 4.We wish you a safe and happy holiday as we celebrate the birth of our nation!
URL:https://oftc.edu/event/staff-holiday-independence-day-2026/
CATEGORIES:Holidays & Breaks,Important Dates for Faculty/Staff
ATTACH;FMTTYPE=image/webp:https://oftc.edu/wp-content/uploads/2025/05/FourthofJuly.webp
END:VEVENT
BEGIN:VEVENT
DTSTART;TZID=America/New_York:20260709T080000
DTEND;TZID=America/New_York:20260709T190000
DTSTAMP:20260424T062656
CREATED:20260413T191516Z
LAST-MODIFIED:20260413T191516Z
UID:5985-1783584000-1783623600@oftc.edu
SUMMARY:One Stop Enrollment Day - Fall 2026 (All Campuses)
DESCRIPTION:Take care of admissions\, financial aid\, and registration in one visit! Your time is valuable\, that’s why we want to make it as simple as we can for you to get started on your path to a successful career. So\, come by and see us during one of our One Stop Enrollment Days & you’ll be on your way to a successful career in no time at all. It just takes one visit to get started! \nStudents who enroll during this event will pay NO admission fee! \nLearn more at OFTC.edu/OneStop
URL:https://oftc.edu/event/one-stop-enrollment-day-fall-2026-all-campuses/
CATEGORIES:Community Event,Important Dates for Faculty/Staff,Key Academic Dates
ATTACH;FMTTYPE=image/webp:https://oftc.edu/wp-content/uploads/2025/05/AY24-FALL-Minimester-One-Stop-Event-1.webp
ORGANIZER;CN="OFTC%E2%80%99s Admission Office":MAILTO:admissions@oftc.edu
END:VEVENT
BEGIN:VEVENT
DTSTART;TZID=America/New_York:20260725T100000
DTEND;TZID=America/New_York:20260725T130000
DTSTAMP:20260424T062656
CREATED:20260413T191651Z
LAST-MODIFIED:20260413T191651Z
UID:5986-1784973600-1784984400@oftc.edu
SUMMARY:One Stop Enrollment Day - Fall 2026 (All Campuses)
DESCRIPTION:Take care of admissions\, financial aid\, and registration in one visit! Your time is valuable\, that’s why we want to make it as simple as we can for you to get started on your path to a successful career. So\, come by and see us during one of our One Stop Enrollment Days & you’ll be on your way to a successful career in no time at all. It just takes one visit to get started! \nStudents who enroll during this event will pay NO admission fee! \nLearn more at OFTC.edu/OneStop
URL:https://oftc.edu/event/one-stop-enrollment-day-fall-2026-all-campuses-2/
CATEGORIES:Community Event,Important Dates for Faculty/Staff,Key Academic Dates
ATTACH;FMTTYPE=image/webp:https://oftc.edu/wp-content/uploads/2025/05/AY24-FALL-Minimester-One-Stop-Event-1.webp
ORGANIZER;CN="OFTC%E2%80%99s Admission Office":MAILTO:admissions@oftc.edu
END:VEVENT
BEGIN:VEVENT
DTSTART;VALUE=DATE:20260731
DTEND;VALUE=DATE:20260801
DTSTAMP:20260424T062656
CREATED:20250522T152502Z
LAST-MODIFIED:20250522T152502Z
UID:4190-1785456000-1785542399@oftc.edu
SUMMARY:Graduation Application Deadline – Fall 2026
DESCRIPTION:
URL:https://oftc.edu/event/graduation-application-deadline-fall-2026/
CATEGORIES:Important Dates for Faculty/Staff,Key Academic Dates
END:VEVENT
BEGIN:VEVENT
DTSTART;VALUE=DATE:20260803
DTEND;VALUE=DATE:20260804
DTSTAMP:20260424T062656
CREATED:20250522T152752Z
LAST-MODIFIED:20250522T164329Z
UID:4191-1785715200-1785801599@oftc.edu
SUMMARY:New Student Registration Day - Fall 2026
DESCRIPTION:We’re staying open late to help you get registered! This special registration event is perfect for working students and busy families. \n? Time:▪️ Dublin & Sandersville: 2–7 PM▪️ Jefferson: 5–7 PM \n? Location: Find Your Nearest Campus \nWhether you’re a new student ready to begin or a returning student finalizing your schedule\, our team is here to assist with admissions\, financial aid\, testing\, and more. \n➡️ Get started \n? Need help?Call 478-553-2064 or 478-274-7837? Email: admissions@oftc.edu
URL:https://oftc.edu/event/new-student-registration-day-fall-2026/
LOCATION:Sandersville Campus\, 1189 Deepstep Road\, Sandersville\, GA\, 31082\, United States
CATEGORIES:Important Dates for Faculty/Staff,Key Academic Dates
ATTACH;FMTTYPE=image/webp:https://oftc.edu/wp-content/uploads/2025/05/AY25-New-Student-Reg-Day-Event-Thumbnail-FALL.webp
ORGANIZER;CN="OFTC%E2%80%99s Admission Office":MAILTO:admissions@oftc.edu
END:VEVENT
BEGIN:VEVENT
DTSTART;VALUE=DATE:20260803
DTEND;VALUE=DATE:20260804
DTSTAMP:20260424T062656
CREATED:20250520T144132Z
LAST-MODIFIED:20250520T144132Z
UID:4042-1785715200-1785801599@oftc.edu
SUMMARY:Grades Due – 12 Noon – Summer 2026
DESCRIPTION:
URL:https://oftc.edu/event/grades-due-12-noon-summer-2026/
CATEGORIES:Important Dates for Faculty/Staff,Key Academic Dates
END:VEVENT
BEGIN:VEVENT
DTSTART;VALUE=DATE:20260804
DTEND;VALUE=DATE:20260805
DTSTAMP:20260424T062656
CREATED:20250522T152952Z
LAST-MODIFIED:20250522T152952Z
UID:4192-1785801600-1785887999@oftc.edu
SUMMARY:Academic Affairs Planning Day
DESCRIPTION:OFTC’s Academic Affairs Planning DayOFTC’s Academic Affairs Division will hold a dedicated planning day focused on collaboration\, strategic goal setting\, and academic alignment. This event brings faculty and academic staff together to review priorities\, plan for the upcoming term\, and strengthen efforts that support student success.
URL:https://oftc.edu/event/academic-affairs-planning-day/
CATEGORIES:Important Dates for Faculty/Staff
END:VEVENT
BEGIN:VEVENT
DTSTART;VALUE=DATE:20260805
DTEND;VALUE=DATE:20260815
DTSTAMP:20260424T062656
CREATED:20250522T153119Z
LAST-MODIFIED:20250522T153119Z
UID:4193-1785888000-1786751999@oftc.edu
SUMMARY:Available for Faculty Leave
DESCRIPTION:
URL:https://oftc.edu/event/available-for-faculty-leave-6/
CATEGORIES:Important Dates for Faculty/Staff
END:VEVENT
BEGIN:VEVENT
DTSTART;VALUE=DATE:20260817
DTEND;VALUE=DATE:20260818
DTSTAMP:20260424T062656
CREATED:20260323T190328Z
LAST-MODIFIED:20260323T190328Z
UID:5776-1786924800-1787011199@oftc.edu
SUMMARY:Classes Begin – Dual Enrollment Cohorts - Fall 2026
DESCRIPTION:Welcome\, Dual Enrollment Students!It’s the first day of class for our general dual enrollment cohorts— we’re excited to have you at OFTC! \nHere are a few quick tips to get started strong:✅ Log in to myOFTC — your go-to hub for student resources✅ Set up your OFTC student email on your phone for easy access✅ Explore oftc.edu for helpful tools\, deadlines\, and student info \nNeed help?Reach out to your OFTC Dual Enrollment Coordinator or your course instructor for support. \nLet’s make it a great semester — your career journey starts now! ?
URL:https://oftc.edu/event/classes-begin-dual-enrollment-cohorts-fall-2026/
CATEGORIES:Important Dates for Faculty/Staff,Key Academic Dates
ATTACH;FMTTYPE=image/webp:https://oftc.edu/wp-content/uploads/2025/05/1stDayClass-DE.webp
END:VEVENT
BEGIN:VEVENT
DTSTART;VALUE=DATE:20260817
DTEND;VALUE=DATE:20260818
DTSTAMP:20260424T062656
CREATED:20260323T202015Z
LAST-MODIFIED:20260323T202015Z
UID:5794-1786924800-1787011199@oftc.edu
SUMMARY:Classes Begin - Terms A & B – Fall 2026
DESCRIPTION:Welcome to OFTC — It’s the First Day of Class! ?We’re so glad you’re here! Start your semester strong with these helpful tips: \n✅ Log in to myOFTC — your one-stop hub for student tools and resources✅ Set up your OFTC student email on your phone for quick\, easy access✅ Explore oftc.edu — find important info\, deadlines\, and support services \nNeed assistance?The Registrar’s Office will be open until 7 PM on the first and second day of classes to help with registration\, schedules\, and more. \nLet’s make it a great semester!
URL:https://oftc.edu/event/classes-begin-terms-a-b-fall-2026/
CATEGORIES:Important Dates for Faculty/Staff,Key Academic Dates
ATTACH;FMTTYPE=image/webp:https://oftc.edu/wp-content/uploads/2025/05/1stDayClass.webp
END:VEVENT
BEGIN:VEVENT
DTSTART;TZID=America/New_York:20260917T100000
DTEND;TZID=America/New_York:20260917T130000
DTSTAMP:20260424T062656
CREATED:20260413T191819Z
LAST-MODIFIED:20260413T191819Z
UID:5987-1789639200-1789650000@oftc.edu
SUMMARY:One Stop Enrollment Day - Fall Minimester 2026 (All Campuses)
DESCRIPTION:Take care of admissions\, financial aid\, and registration in one visit! Your time is valuable\, that’s why we want to make it as simple as we can for you to get started on your path to a successful career. So\, come by and see us during one of our One Stop Enrollment Days & you’ll be on your way to a successful career in no time at all. It just takes one visit to get started! \nStudents who enroll during this event will pay NO admission fee! \nLearn more at OFTC.edu/OneStop
URL:https://oftc.edu/event/one-stop-enrollment-day-fall-minimester-2026-all-campuses/
CATEGORIES:Community Event,Important Dates for Faculty/Staff,Key Academic Dates
ATTACH;FMTTYPE=image/webp:https://oftc.edu/wp-content/uploads/2025/05/AY24-FALL-Minimester-One-Stop-Event-1.webp
ORGANIZER;CN="OFTC%E2%80%99s Admission Office":MAILTO:admissions@oftc.edu
END:VEVENT
BEGIN:VEVENT
DTSTART;TZID=America/New_York:20260924T190000
DTEND;TZID=America/New_York:20260924T200000
DTSTAMP:20260424T062656
CREATED:20260324T150138Z
LAST-MODIFIED:20260324T150138Z
UID:5842-1790276400-1790280000@oftc.edu
SUMMARY:Commencement – North Campus - Fall 2026
DESCRIPTION:Commencement Ceremony \nWe look forward to celebrating your achievements at OFTC’s Commencement Ceremony! This special occasion honors the hard work and dedication of our graduates as they take the next step in their journey. \nGraduates should check their OFTC email regularly for important updates\, including cap & gown details\, arrival times\, tickets\, and instructions for guests. \nLocation: Ben J. Tarbutton Jr. Business Development CenterDate & Time: Thursday\, September 24\, 7PM \nFor more information\, visit the Graduation Information page or contact the Registrar’s Office.
URL:https://oftc.edu/event/commencement-north-campus-fall-2026/
LOCATION:Sandersville Campus\, 1189 Deepstep Road\, Sandersville\, GA\, 31082\, United States
CATEGORIES:Community Event,Important Dates for Faculty/Staff,Key Academic Dates
ATTACH;FMTTYPE=image/webp:https://oftc.edu/wp-content/uploads/2025/05/Commencement.webp
END:VEVENT
BEGIN:VEVENT
DTSTART;VALUE=DATE:20261012
DTEND;VALUE=DATE:20261013
DTSTAMP:20260424T062656
CREATED:20260323T174034Z
LAST-MODIFIED:20260323T174034Z
UID:5764-1791763200-1791849599@oftc.edu
SUMMARY:Grades Due – Term B – 12 Noon – Fall 2026
DESCRIPTION:
URL:https://oftc.edu/event/grades-due-term-b-12-noon-fall-2026/
CATEGORIES:Important Dates for Faculty/Staff,Key Academic Dates
END:VEVENT
BEGIN:VEVENT
DTSTART;VALUE=DATE:20261012
DTEND;VALUE=DATE:20261013
DTSTAMP:20260424T062656
CREATED:20260323T202205Z
LAST-MODIFIED:20260323T202205Z
UID:5795-1791763200-1791849599@oftc.edu
SUMMARY:Classes Begin – Minimester/Term C – Fall 2026
DESCRIPTION:Welcome to OFTC — It’s the First Day of Class! ?We’re so glad you’re here! Start your semester strong with these helpful tips: \n✅ Log in to myOFTC — your one-stop hub for student tools and resources✅ Set up your OFTC student email on your phone for quick\, easy access✅ Explore oftc.edu — find important info\, deadlines\, and support services \nNeed assistance?The Registrar’s Office will be open until 7 PM on the first and second day of classes to help with registration\, schedules\, and more. \nLet’s make it a great semester!
URL:https://oftc.edu/event/classes-begin-minimester-term-c-fall-2026/
CATEGORIES:Important Dates for Faculty/Staff,Key Academic Dates
ATTACH;FMTTYPE=image/webp:https://oftc.edu/wp-content/uploads/2025/05/1stDayClass.webp
END:VEVENT
BEGIN:VEVENT
DTSTART;VALUE=DATE:20261126
DTEND;VALUE=DATE:20261128
DTSTAMP:20260424T062656
CREATED:20260324T175752Z
LAST-MODIFIED:20260324T175752Z
UID:5868-1795651200-1795823999@oftc.edu
SUMMARY:Staff Holidays: Thanksgiving 2026
DESCRIPTION:OFTC will be closed in observance of Thanksgiving.Wishing you and your loved ones a joyful holiday filled with gratitude\, good food\, and great company. Happy Thanksgiving!
URL:https://oftc.edu/event/staff-holidays-thanksgiving-2026/
CATEGORIES:Holidays & Breaks,Important Dates for Faculty/Staff
ATTACH;FMTTYPE=image/webp:https://oftc.edu/wp-content/uploads/2025/05/AY19_SM_Holiday_Thanksgiving1.webp
END:VEVENT
BEGIN:VEVENT
DTSTART;VALUE=DATE:20261206
DTEND;VALUE=DATE:20261207
DTSTAMP:20260424T062656
CREATED:20260323T173549Z
LAST-MODIFIED:20260323T173549Z
UID:5761-1796515200-1796601599@oftc.edu
SUMMARY:Graduation Application Deadline - Spring 2027
DESCRIPTION:
URL:https://oftc.edu/event/graduation-application-deadline-spring-2027/
CATEGORIES:Important Dates for Faculty/Staff,Key Academic Dates
END:VEVENT
BEGIN:VEVENT
DTSTART;VALUE=DATE:20261207
DTEND;VALUE=DATE:20261208
DTSTAMP:20260424T062656
CREATED:20260323T181408Z
LAST-MODIFIED:20260323T181408Z
UID:5769-1796601600-1796687999@oftc.edu
SUMMARY:New Student Registration Day - Spring 2027 (We're Open Late)
DESCRIPTION:We’re staying open late to help you get registered! This special registration event is perfect for working students and busy families. \nTime:▪️ Dublin & Sandersville: 2–7 PM▪️ Jefferson: 5–7 PM \nLocation: Find Your Nearest Campus \nWhether you’re a new student ready to begin or a returning student finalizing your schedule\, our team is here to assist with admissions\, financial aid\, testing\, and more. \n➡️ Get started \nNeed help?Call 478-553-2064 or 478-274-7837Email: admissions@oftc.edu
URL:https://oftc.edu/event/new-student-registration-day-spring-2027-were-open-late/
LOCATION:Sandersville Campus\, 1189 Deepstep Road\, Sandersville\, GA\, 31082\, United States
CATEGORIES:Important Dates for Faculty/Staff,Key Academic Dates
ATTACH;FMTTYPE=image/webp:https://oftc.edu/wp-content/uploads/2025/05/AY25-New-Student-Reg-Day-Event-Thumbnail-FALL.webp
ORGANIZER;CN="OFTC%E2%80%99s Admission Office":MAILTO:admissions@oftc.edu
END:VEVENT
BEGIN:VEVENT
DTSTART;VALUE=DATE:20261207
DTEND;VALUE=DATE:20261208
DTSTAMP:20260424T062656
CREATED:20260323T174211Z
LAST-MODIFIED:20260323T174211Z
UID:5765-1796601600-1796687999@oftc.edu
SUMMARY:Grades Due – Terms A & C – 12 Noon – Fall 2026
DESCRIPTION:
URL:https://oftc.edu/event/grades-due-terms-a-c-12-noon-fall-2026/
CATEGORIES:Important Dates for Faculty/Staff,Key Academic Dates
END:VEVENT
BEGIN:VEVENT
DTSTART;VALUE=DATE:20261208
DTEND;VALUE=DATE:20261209
DTSTAMP:20260424T062656
CREATED:20260324T180010Z
LAST-MODIFIED:20260324T180142Z
UID:5869-1796688000-1796774399@oftc.edu
SUMMARY:Staff Development Day – College Closed
DESCRIPTION:OFTC Closed for Staff Development OFTC will be closed for required Staff Development & the College’s annual Awards Luncheon. \nNormal operations will resume the following business day. \nThank you for your support and understanding!
URL:https://oftc.edu/event/staff-development-day-college-closed/
CATEGORIES:Important Dates for Faculty/Staff
END:VEVENT
BEGIN:VEVENT
DTSTART;VALUE=DATE:20261224
DTEND;VALUE=DATE:20270101
DTSTAMP:20260424T062656
CREATED:20260324T185602Z
LAST-MODIFIED:20260324T185602Z
UID:5884-1798070400-1798761599@oftc.edu
SUMMARY:College Closed – Dec. 24 - Dec. 31\, 2026
DESCRIPTION:OFTC will be closed December 24–31\, 2026. The college will reopen after the New Year’s Holiday\, on Monday\, January 4\, 2027.
URL:https://oftc.edu/event/college-closed-dec-24-dec-31-2026/
CATEGORIES:Holidays & Breaks,Important Dates for Faculty/Staff
ATTACH;FMTTYPE=image/png:https://oftc.edu/wp-content/uploads/2026/03/AY26_Campus-Closed_Holiday-break-1.png
END:VEVENT
BEGIN:VEVENT
DTSTART;VALUE=DATE:20270101
DTEND;VALUE=DATE:20270103
DTSTAMP:20260424T062656
CREATED:20260324T183640Z
LAST-MODIFIED:20260324T183640Z
UID:5882-1798761600-1798934399@oftc.edu
SUMMARY:New Year's Day Observed
DESCRIPTION:Oconee Fall Line Technical College will be closed January 1\, 2027 and will reopen under normal operating hours on January 4\, 2027.
URL:https://oftc.edu/event/new-years-day-observed-2/
CATEGORIES:Holidays & Breaks,Important Dates for Faculty/Staff
ATTACH;FMTTYPE=image/png:https://oftc.edu/wp-content/uploads/2026/03/AY27-New-Year-Square-for-Web-1.png
END:VEVENT
BEGIN:VEVENT
DTSTART;VALUE=DATE:20270105
DTEND;VALUE=DATE:20270106
DTSTAMP:20260424T062656
CREATED:20260323T184214Z
LAST-MODIFIED:20260323T190136Z
UID:5774-1799107200-1799193599@oftc.edu
SUMMARY:Classes Begin – Dual Enrollment Cohorts for Salon & Spa Support Specialist and Nurse Aide - Spring 2027
DESCRIPTION:Welcome\, Dual Enrollment Students!It’s the first day of class for our Salon & Spa Support Specialist and Nurse Aide cohorts — we’re excited to have you at OFTC! \nHere are a few quick tips to get started strong:✅ Log in to myOFTC — your go-to hub for student resources✅ Set up your OFTC student email on your phone for easy access✅ Explore oftc.edu for helpful tools\, deadlines\, and student info \nNeed help?Reach out to your OFTC Dual Enrollment Coordinator or your course instructor for support. \nLet’s make it a great semester — your career journey starts now!
URL:https://oftc.edu/event/classes-begin-dual-enrollment-cohorts-for-salon-spa-support-specialist-and-nurse-aide-fall-2026/
CATEGORIES:Important Dates for Faculty/Staff,Key Academic Dates
ATTACH;FMTTYPE=image/webp:https://oftc.edu/wp-content/uploads/2025/05/1stDayClass-DE.webp
END:VEVENT
BEGIN:VEVENT
DTSTART;VALUE=DATE:20270111
DTEND;VALUE=DATE:20270112
DTSTAMP:20260424T062656
CREATED:20260323T190516Z
LAST-MODIFIED:20260323T190516Z
UID:5777-1799625600-1799711999@oftc.edu
SUMMARY:Classes Begin – Dual Enrollment Cohorts - Spring 2027
DESCRIPTION:Welcome\, Dual Enrollment Students!It’s the first day of class for our general dual enrollment cohorts— we’re excited to have you at OFTC! \nHere are a few quick tips to get started strong:✅ Log in to myOFTC — your go-to hub for student resources✅ Set up your OFTC student email on your phone for easy access✅ Explore oftc.edu for helpful tools\, deadlines\, and student info \nNeed help?Reach out to your OFTC Dual Enrollment Coordinator or your course instructor for support. \nLet’s make it a great semester — your career journey starts now! ?
URL:https://oftc.edu/event/classes-begin-dual-enrollment-cohorts-spring-2027/
CATEGORIES:Important Dates for Faculty/Staff,Key Academic Dates
ATTACH;FMTTYPE=image/webp:https://oftc.edu/wp-content/uploads/2025/05/1stDayClass-DE.webp
END:VEVENT
BEGIN:VEVENT
DTSTART;VALUE=DATE:20270111
DTEND;VALUE=DATE:20270112
DTSTAMP:20260424T062656
CREATED:20260323T202308Z
LAST-MODIFIED:20260323T202308Z
UID:5796-1799625600-1799711999@oftc.edu
SUMMARY:Classes Begin - Terms A & B – Spring 2027
DESCRIPTION:Welcome to OFTC — It’s the First Day of Class! ?We’re so glad you’re here! Start your semester strong with these helpful tips: \n✅ Log in to myOFTC — your one-stop hub for student tools and resources✅ Set up your OFTC student email on your phone for quick\, easy access✅ Explore oftc.edu — find important info\, deadlines\, and support services \nNeed assistance?The Registrar’s Office will be open until 7 PM on the first and second day of classes to help with registration\, schedules\, and more. \nLet’s make it a great semester!
URL:https://oftc.edu/event/classes-begin-terms-a-b-spring-2027/
CATEGORIES:Important Dates for Faculty/Staff,Key Academic Dates
ATTACH;FMTTYPE=image/webp:https://oftc.edu/wp-content/uploads/2025/05/1stDayClass.webp
END:VEVENT
BEGIN:VEVENT
DTSTART;VALUE=DATE:20270118
DTEND;VALUE=DATE:20270119
DTSTAMP:20260424T062656
CREATED:20260324T182721Z
LAST-MODIFIED:20260324T182721Z
UID:5881-1800230400-1800316799@oftc.edu
SUMMARY:Student & Staff Holiday: Martin Luther King\, Jr.\, 2027
DESCRIPTION:“Darkness cannot drive out darkness; only light can do that. Hate cannot drive out hate; only love can do that.”– Rev. Dr. Martin Luther King\, Jr. \nIn honor of Dr. King’s legacy and impact\, OFTC will be closed on Monday\, January 18. \nNormal operations will resume on Tuesday\, January 19.
URL:https://oftc.edu/event/student-staff-holiday-martin-luther-king-jr-2027/
CATEGORIES:Holidays & Breaks,Important Dates for Faculty/Staff
ATTACH;FMTTYPE=image/webp:https://oftc.edu/wp-content/uploads/2025/05/MLK.webp
END:VEVENT
BEGIN:VEVENT
DTSTART;VALUE=DATE:20270308
DTEND;VALUE=DATE:20270309
DTSTAMP:20260424T062656
CREATED:20260323T174336Z
LAST-MODIFIED:20260323T174336Z
UID:5766-1804464000-1804550399@oftc.edu
SUMMARY:Grades Due – Term B – 12 Noon – Spring 2027
DESCRIPTION:
URL:https://oftc.edu/event/grades-due-term-b-12-noon-spring-2027/
CATEGORIES:Important Dates for Faculty/Staff,Key Academic Dates
END:VEVENT
BEGIN:VEVENT
DTSTART;VALUE=DATE:20270308
DTEND;VALUE=DATE:20270309
DTSTAMP:20260424T062656
CREATED:20260323T203242Z
LAST-MODIFIED:20260323T203318Z
UID:5797-1804464000-1804550399@oftc.edu
SUMMARY:Classes Begin – Minimester/Term C – Spring 2027
DESCRIPTION:Welcome to OFTC — It’s the First Day of Class! ?We’re so glad you’re here! Start your semester strong with these helpful tips: \n✅ Log in to myOFTC — your one-stop hub for student tools and resources✅ Set up your OFTC student email on your phone for quick\, easy access✅ Explore oftc.edu — find important info\, deadlines\, and support services \nNeed assistance?The Registrar’s Office will be open until 7 PM on the first and second day of classes to help with registration\, schedules\, and more. \nLet’s make it a great semester!
URL:https://oftc.edu/event/classes-begin-minimester-term-c-spring-2027/
CATEGORIES:Important Dates for Faculty/Staff,Key Academic Dates
ATTACH;FMTTYPE=image/webp:https://oftc.edu/wp-content/uploads/2025/05/1stDayClass.webp
END:VEVENT
END:VCALENDAR