BEGIN:VCALENDAR
VERSION:2.0
PRODID:-//Oconee Fall Line Technical College - ECPv6.13.1//NONSGML v1.0//EN
CALSCALE:GREGORIAN
METHOD:PUBLISH
X-ORIGINAL-URL:https://oftc.edu
X-WR-CALDESC:Events for Oconee Fall Line Technical College
REFRESH-INTERVAL;VALUE=DURATION:PT1H
X-Robots-Tag:noindex
X-PUBLISHED-TTL:PT1H
BEGIN:VTIMEZONE
TZID:America/New_York
BEGIN:DAYLIGHT
TZOFFSETFROM:-0500
TZOFFSETTO:-0400
TZNAME:EDT
DTSTART:20250309T070000
END:DAYLIGHT
BEGIN:STANDARD
TZOFFSETFROM:-0400
TZOFFSETTO:-0500
TZNAME:EST
DTSTART:20251102T060000
END:STANDARD
BEGIN:DAYLIGHT
TZOFFSETFROM:-0500
TZOFFSETTO:-0400
TZNAME:EDT
DTSTART:20260308T070000
END:DAYLIGHT
BEGIN:STANDARD
TZOFFSETFROM:-0400
TZOFFSETTO:-0500
TZNAME:EST
DTSTART:20261101T060000
END:STANDARD
END:VTIMEZONE
BEGIN:VEVENT
DTSTART;VALUE=DATE:20260101
DTEND;VALUE=DATE:20260103
DTSTAMP:20260421T114822
CREATED:20250522T174109Z
LAST-MODIFIED:20250522T174109Z
UID:4194-1767225600-1767398399@oftc.edu
SUMMARY:New Year's Day Observed
DESCRIPTION:Oconee Fall Line Technical College will be closed January 1 – 2\, 2026 and will reopen under normal operating hours on January 5\, 2026.
URL:https://oftc.edu/event/new-years-day-observed/
CATEGORIES:Holidays & Breaks,Important Dates for Faculty/Staff
ATTACH;FMTTYPE=image/png:https://oftc.edu/wp-content/uploads/2025/05/AY26-FALL-Dates-14-1.png
END:VEVENT
BEGIN:VEVENT
DTSTART;VALUE=DATE:20251231
DTEND;VALUE=DATE:20260103
DTSTAMP:20260421T114822
CREATED:20250522T131252Z
LAST-MODIFIED:20250522T174000Z
UID:4171-1767139200-1767398399@oftc.edu
SUMMARY:College Closed – Dec. 31\, 2025
DESCRIPTION:Oconee Fall Line Technical College will be closed December 31\, 2025 & January 1 – 2\, 2026\,  and will reopen under normal operating hours on January 5\, 2026.
URL:https://oftc.edu/event/college-closed-must-take-leave/
CATEGORIES:Holidays & Breaks,Important Dates for Faculty/Staff
ATTACH;FMTTYPE=image/png:https://oftc.edu/wp-content/uploads/2025/05/AY26-FALL-Dates-14-1.png
END:VEVENT
BEGIN:VEVENT
DTSTART;VALUE=DATE:20251224
DTEND;VALUE=DATE:20251231
DTSTAMP:20260421T114822
CREATED:20250522T130211Z
LAST-MODIFIED:20250807T151100Z
UID:4169-1766534400-1767139199@oftc.edu
SUMMARY:Faculty & Staff State Holidays:
DESCRIPTION:Wednesday\, Dec 24\, 2025—Good Friday (Observed)\nThursday\, Dec 25\, 2025—Christmas Day\nFriday\, Dec 26\, 2025—Washington’s Bday (Observed)\nMonday\, Dec 29\, 2025—Columbus Day (Observed)\nTuesday\, Dec 30\, 2025—Veteran’s Day (Observed)
URL:https://oftc.edu/event/faculty-staff-state-holidays/
CATEGORIES:Holidays & Breaks,Important Dates for Faculty/Staff
ATTACH;FMTTYPE=image/jpeg:https://oftc.edu/wp-content/uploads/2025/05/Christmas.jpg
END:VEVENT
BEGIN:VEVENT
DTSTART;VALUE=DATE:20251212
DTEND;VALUE=DATE:20260103
DTSTAMP:20260421T114822
CREATED:20250520T160912Z
LAST-MODIFIED:20250520T160912Z
UID:4052-1765497600-1767398399@oftc.edu
SUMMARY:Available for Faculty Leave
DESCRIPTION:
URL:https://oftc.edu/event/available-for-faculty-leave-3/
CATEGORIES:Important Dates for Faculty/Staff
END:VEVENT
BEGIN:VEVENT
DTSTART;VALUE=DATE:20251211
DTEND;VALUE=DATE:20251212
DTSTAMP:20260421T114822
CREATED:20250522T124437Z
LAST-MODIFIED:20251021T184804Z
UID:4165-1765411200-1765497599@oftc.edu
SUMMARY:Staff Development Day – College Closed
DESCRIPTION:OFTC Closed for Staff Development & Annual Awards LuncheonOFTC will be closed on Thursday\, December 11 for Staff Development Day and our annual awards luncheon. \nNormal operations will resume on Friday\, December 12. \nThank you for your support and understanding!
URL:https://oftc.edu/event/staff-development-day-college-closed-2/
CATEGORIES:Important Dates for Faculty/Staff
ATTACH;FMTTYPE=image/png:https://oftc.edu/wp-content/uploads/2025/05/AY26_Staff-Dev.-Campus-Closed_SM-1.png
END:VEVENT
BEGIN:VEVENT
DTSTART;VALUE=DATE:20251210
DTEND;VALUE=DATE:20251211
DTSTAMP:20260421T114822
CREATED:20250520T143755Z
LAST-MODIFIED:20250520T143755Z
UID:4039-1765324800-1765411199@oftc.edu
SUMMARY:Grades Due – Terms A & C – 12 Noon – Fall 2025
DESCRIPTION:
URL:https://oftc.edu/event/grades-due-terms-a-c-12-noon-fall-2025/
CATEGORIES:Important Dates for Faculty/Staff,Key Academic Dates
END:VEVENT
BEGIN:VEVENT
DTSTART;VALUE=DATE:20251210
DTEND;VALUE=DATE:20251211
DTSTAMP:20260421T114822
CREATED:20250520T160148Z
LAST-MODIFIED:20251008T170223Z
UID:4048-1765324800-1765411199@oftc.edu
SUMMARY:New Student Registration Day - Spring 2026
DESCRIPTION:We’re staying open late to help you get registered! This special registration event is perfect for working students and busy families. \nTime:▪️ Dublin & Sandersville: 2–7 PM▪️ Jefferson: 5–7 PM \nLocation: Find Your Nearest Campus \nWhether you’re a new student ready to begin or a returning student finalizing your schedule\, our team is here to assist with admissions\, financial aid\, testing\, and more. \n➡️ Get started \nNeed help?Call 478-553-2064 or 478-274-7837Email: admissions@oftc.edu
URL:https://oftc.edu/event/new-student-registration-day-spring-2026/
LOCATION:Dublin Campus\, 560 Pinehill Road\, Dublin\, GA\, 31021\, United States
CATEGORIES:Important Dates for Faculty/Staff,Key Academic Dates
ATTACH;FMTTYPE=image/webp:https://oftc.edu/wp-content/uploads/2025/05/AY25-New-Student-Reg-Day-Event-Thumbnail-FALL.webp
ORGANIZER;CN="OFTC%E2%80%99s Admission Office":MAILTO:admissions@oftc.edu
END:VEVENT
BEGIN:VEVENT
DTSTART;VALUE=DATE:20251209
DTEND;VALUE=DATE:20251210
DTSTAMP:20260421T114822
CREATED:20250520T142212Z
LAST-MODIFIED:20250520T142212Z
UID:4029-1765238400-1765324799@oftc.edu
SUMMARY:Graduation Application Deadline - Spring 2026
DESCRIPTION:
URL:https://oftc.edu/event/graduation-application-deadline-spring-2026/
CATEGORIES:Important Dates for Faculty/Staff,Key Academic Dates
END:VEVENT
BEGIN:VEVENT
DTSTART;TZID=America/New_York:20251206T100000
DTEND;TZID=America/New_York:20251206T130000
DTSTAMP:20260421T114822
CREATED:20250522T203548Z
LAST-MODIFIED:20251113T131112Z
UID:4202-1765015200-1765026000@oftc.edu
SUMMARY:One Stop Enrollment Day - Spring 2026 (All Campuses)
DESCRIPTION:Take care of admissions\, financial aid\, and registration in one visit! Your time is valuable\, that’s why we want to make it as simple as we can for you to get started on your path to a successful career. So\, come by and see us during one of our One Stop Enrollment Days & you’ll be on your way to a successful career in no time at all. It just takes one visit to get started! \nStudents who enroll during this event will pay NO admission fee!
URL:https://oftc.edu/event/one-stop-enrollment-day-spring-2026-sandersville-jefferson/
LOCATION:Dublin Campus\, 560 Pinehill Road\, Dublin\, GA\, 31021\, United States
CATEGORIES:Community Event,Important Dates for Faculty/Staff,Key Academic Dates
ATTACH;FMTTYPE=image/webp:https://oftc.edu/wp-content/uploads/2025/05/AY24-FALL-Minimester-One-Stop-Event-1.webp
ORGANIZER;CN="OFTC%E2%80%99s Admission Office":MAILTO:admissions@oftc.edu
END:VEVENT
BEGIN:VEVENT
DTSTART;VALUE=DATE:20251127
DTEND;VALUE=DATE:20251129
DTSTAMP:20260421T114822
CREATED:20250522T110542Z
LAST-MODIFIED:20250522T173532Z
UID:4158-1764201600-1764374399@oftc.edu
SUMMARY:Staff Holidays: Thanksgiving 2025
DESCRIPTION:OFTC will be closed in observance of Thanksgiving.Wishing you and your loved ones a joyful holiday filled with gratitude\, good food\, and great company. Happy Thanksgiving!
URL:https://oftc.edu/event/staff-holidays-thanksgiving-2025/
CATEGORIES:Holidays & Breaks,Important Dates for Faculty/Staff
ATTACH;FMTTYPE=image/webp:https://oftc.edu/wp-content/uploads/2025/05/AY19_SM_Holiday_Thanksgiving1.webp
END:VEVENT
BEGIN:VEVENT
DTSTART;VALUE=DATE:20251124
DTEND;VALUE=DATE:20251127
DTSTAMP:20260421T114822
CREATED:20250520T160754Z
LAST-MODIFIED:20250520T160754Z
UID:4051-1763942400-1764201599@oftc.edu
SUMMARY:Available for Faculty Leave
DESCRIPTION:
URL:https://oftc.edu/event/available-for-faculty-leave-2/
CATEGORIES:Important Dates for Faculty/Staff
END:VEVENT
BEGIN:VEVENT
DTSTART;TZID=America/New_York:20251113T080000
DTEND;TZID=America/New_York:20251113T190000
DTSTAMP:20260421T114822
CREATED:20250522T203444Z
LAST-MODIFIED:20250522T203444Z
UID:4201-1763020800-1763060400@oftc.edu
SUMMARY:One Stop Enrollment Day  - Spring 2026 (ALL Campuses)
DESCRIPTION:Take care of admissions\, financial aid\, and registration in one visit! Your time is valuable\, that’s why we want to make it as simple as we can for you to get started on your path to a successful career. So\, come by and see us during one of our One Stop Enrollment Days & you’ll be on your way to a successful career in no time at all. It just takes one visit to get started! \nStudents who enroll during this event will pay NO admission fee!
URL:https://oftc.edu/event/one-stop-enrollment-day-spring-2026-all-campuses/
LOCATION:Dublin Campus\, 560 Pinehill Road\, Dublin\, GA\, 31021\, United States
CATEGORIES:Community Event,Important Dates for Faculty/Staff,Key Academic Dates
ATTACH;FMTTYPE=image/webp:https://oftc.edu/wp-content/uploads/2025/05/AY24-FALL-Minimester-One-Stop-Event-1.webp
ORGANIZER;CN="OFTC%E2%80%99s Admission Office":MAILTO:admissions@oftc.edu
END:VEVENT
BEGIN:VEVENT
DTSTART;VALUE=DATE:20251106
DTEND;VALUE=DATE:20251107
DTSTAMP:20260421T114822
CREATED:20250521T175521Z
LAST-MODIFIED:20250521T175521Z
UID:4146-1762387200-1762473599@oftc.edu
SUMMARY:Earthquake Drill (Campus wide)
DESCRIPTION:A campus wide earthquake drill will take place on this day. Check your OFTC email for details! \nTime: TBD \nLocation: All OFTC Campuses
URL:https://oftc.edu/event/earthquake-drill-campus-wide/
CATEGORIES:Important Dates for Faculty/Staff
END:VEVENT
BEGIN:VEVENT
DTSTART;VALUE=DATE:20251014
DTEND;VALUE=DATE:20251015
DTSTAMP:20260421T114822
CREATED:20250520T181208Z
LAST-MODIFIED:20250714T171437Z
UID:4066-1760400000-1760486399@oftc.edu
SUMMARY:Classes Begin – Minimester/Term C – Fall 2025
DESCRIPTION:Welcome to OFTC — It’s the First Day of Class! ?We’re so glad you’re here! Start your semester strong with these helpful tips: \n✅ Log in to myOFTC — your one-stop hub for student tools and resources✅ Set up your OFTC student email on your phone for quick\, easy access✅ Explore oftc.edu — find important info\, deadlines\, and support services \nNeed assistance?The Registrar’s Office will be open until 7 PM on the first and second day of classes to help with registration\, schedules\, and more. \nLet’s make it a great semester!
URL:https://oftc.edu/event/classes-begin-term-c-fall-2025/
CATEGORIES:Important Dates for Faculty/Staff,Key Academic Dates
ATTACH;FMTTYPE=image/webp:https://oftc.edu/wp-content/uploads/2025/05/1stDayClass.webp
END:VEVENT
BEGIN:VEVENT
DTSTART;VALUE=DATE:20251014
DTEND;VALUE=DATE:20251015
DTSTAMP:20260421T114822
CREATED:20250520T143632Z
LAST-MODIFIED:20250520T143632Z
UID:4038-1760400000-1760486399@oftc.edu
SUMMARY:Grades Due – Term B – 12 Noon – Fall 2025
DESCRIPTION:
URL:https://oftc.edu/event/grades-due-term-b-12-noon-fall-2025/
CATEGORIES:Important Dates for Faculty/Staff,Key Academic Dates
END:VEVENT
BEGIN:VEVENT
DTSTART;TZID=America/New_York:20250925T190000
DTEND;TZID=America/New_York:20250925T200000
DTSTAMP:20260421T114822
CREATED:20250521T174411Z
LAST-MODIFIED:20250814T145858Z
UID:4143-1758826800-1758830400@oftc.edu
SUMMARY:Commencement – North Campus - Fall 2025
DESCRIPTION:Commencement Ceremony \nWe look forward to celebrating your achievements at OFTC’s Commencement Ceremony! This special occasion honors the hard work and dedication of our graduates as they take the next step in their journey. \nGraduates should check their OFTC email regularly for important updates\, including cap & gown details\, arrival times\, and instructions for guests. \nLocation: Ben J. Tarbutton Jr. Business Development CenterDate & Time: Thursday\, June 5\, 7PM \nFor more information\, visit the Graduation Information page or contact the Registrar’s Office.
URL:https://oftc.edu/event/commencement-north-campus/
LOCATION:Sandersville Campus\, 1189 Deepstep Road\, Sandersville\, GA\, 31082\, United States
CATEGORIES:Community Event,Important Dates for Faculty/Staff,Key Academic Dates
ATTACH;FMTTYPE=image/webp:https://oftc.edu/wp-content/uploads/2025/05/Commencement.webp
END:VEVENT
BEGIN:VEVENT
DTSTART;VALUE=DATE:20250923
DTEND;VALUE=DATE:20250924
DTSTAMP:20260421T114822
CREATED:20250521T173526Z
LAST-MODIFIED:20250521T173714Z
UID:4142-1758585600-1758671999@oftc.edu
SUMMARY:Severe Weather Drill (Campus wide)
DESCRIPTION:A campus wide severe weather drill will take place on this day. Check your OFTC email for details! \nTime: TBD \nLocation: All OFTC Campuses
URL:https://oftc.edu/event/severe-weather-drill-campus-wide/
CATEGORIES:Important Dates for Faculty/Staff
END:VEVENT
BEGIN:VEVENT
DTSTART;VALUE=DATE:20250923
DTEND;VALUE=DATE:20250924
DTSTAMP:20260421T114822
CREATED:20250521T173329Z
LAST-MODIFIED:20250521T173329Z
UID:4141-1758585600-1758671999@oftc.edu
SUMMARY:Fire Drill (Campus wide)
DESCRIPTION:A campus wide fire drill will take place on this day. Check your OFTC email for details! \nTime: TBD \nLocation: All OFTC Campuses
URL:https://oftc.edu/event/fire-drill-campus-wide/
CATEGORIES:Important Dates for Faculty/Staff
END:VEVENT
BEGIN:VEVENT
DTSTART;TZID=America/New_York:20250918T080000
DTEND;TZID=America/New_York:20250918T190000
DTSTAMP:20260421T114822
CREATED:20250522T203035Z
LAST-MODIFIED:20250709T181145Z
UID:4199-1758182400-1758222000@oftc.edu
SUMMARY:One Stop Enrollment Day - Fall Minimester 2025 (ALL Campuses)
DESCRIPTION:Take care of admissions\, financial aid\, and registration in one visit! Your time is valuable\, that’s why we want to make it as simple as we can for you to get started on your path to a successful career. So\, come by and see us during one of our One Stop Enrollment Days & you’ll be on your way to a successful career in no time at all. It just takes one visit to get started! \nStudents who enroll during this event will pay NO admission fee!
URL:https://oftc.edu/event/one-stop-enrollment-day-fall-minimester-2025-all-campuses/
LOCATION:Dublin Campus\, 560 Pinehill Road\, Dublin\, GA\, 31021\, United States
CATEGORIES:Community Event,Important Dates for Faculty/Staff,Key Academic Dates
ATTACH;FMTTYPE=image/webp:https://oftc.edu/wp-content/uploads/2025/05/AY24-FALL-Minimester-One-Stop-Event-1.webp
ORGANIZER;CN="OFTC%E2%80%99s Admission Office":MAILTO:admissions@oftc.edu
END:VEVENT
BEGIN:VEVENT
DTSTART;TZID=America/New_York:20250908T080000
DTEND;TZID=America/New_York:20250926T170000
DTSTAMP:20260421T114822
CREATED:20250522T105441Z
LAST-MODIFIED:20250522T105441Z
UID:4154-1757318400-1758906000@oftc.edu
SUMMARY:OAC Meetings
DESCRIPTION:OFTC’s Occupational Advisory Committees bring industry experts and educators together to ensure our programs meet workforce needs. These meetings provide valuable input to keep our curriculum relevant and our graduates career-ready\, and take place during this time frame.
URL:https://oftc.edu/event/oac-meetings/
CATEGORIES:Important Dates for Faculty/Staff
END:VEVENT
BEGIN:VEVENT
DTSTART;VALUE=DATE:20250825
DTEND;VALUE=DATE:20250826
DTSTAMP:20260421T114822
CREATED:20250520T180231Z
LAST-MODIFIED:20250520T180905Z
UID:4065-1756080000-1756166399@oftc.edu
SUMMARY:Classes Begin – Dual Enrollment Cohorts - Fall 2025
DESCRIPTION:Welcome\, Dual Enrollment Students!It’s the first day of class for our general dual enrollment cohorts— we’re excited to have you at OFTC! \nHere are a few quick tips to get started strong:✅ Log in to myOFTC — your go-to hub for student resources✅ Set up your OFTC student email on your phone for easy access✅ Explore oftc.edu for helpful tools\, deadlines\, and student info \nNeed help?Reach out to your OFTC Dual Enrollment Coordinator or your course instructor for support. \nLet’s make it a great semester — your career journey starts now! ?
URL:https://oftc.edu/event/classes-begin-dual-enrollment-cohorts-fall-2025/
CATEGORIES:Important Dates for Faculty/Staff,Key Academic Dates
ATTACH;FMTTYPE=image/webp:https://oftc.edu/wp-content/uploads/2025/05/1stDayClass-DE.webp
END:VEVENT
BEGIN:VEVENT
DTSTART;VALUE=DATE:20250825
DTEND;VALUE=DATE:20250826
DTSTAMP:20260421T114822
CREATED:20250520T174844Z
LAST-MODIFIED:20250522T172133Z
UID:4060-1756080000-1756166399@oftc.edu
SUMMARY:Classes Begin - Terms A & B – Fall 2025
DESCRIPTION:Welcome to OFTC — It’s the First Day of Class! ?We’re so glad you’re here! Start your semester strong with these helpful tips: \n✅ Log in to myOFTC — your one-stop hub for student tools and resources✅ Set up your OFTC student email on your phone for quick\, easy access✅ Explore oftc.edu — find important info\, deadlines\, and support services \nNeed assistance?The Registrar’s Office will be open until 7 PM on the first and second day of classes to help with registration\, schedules\, and more. \nLet’s make it a great semester!
URL:https://oftc.edu/event/classes-begin/
CATEGORIES:Important Dates for Faculty/Staff,Key Academic Dates
ATTACH;FMTTYPE=image/webp:https://oftc.edu/wp-content/uploads/2025/05/1stDayClass.webp
END:VEVENT
BEGIN:VEVENT
DTSTART;VALUE=DATE:20250813
DTEND;VALUE=DATE:20250814
DTSTAMP:20260421T114822
CREATED:20250520T163033Z
LAST-MODIFIED:20250520T163033Z
UID:4058-1755043200-1755129599@oftc.edu
SUMMARY:Classes Begin – Dual Enrollment Cohorts for Salon & Spa Support Specialist and Nurse Aide - Fall 2025
DESCRIPTION:Welcome\, Dual Enrollment Students!It’s the first day of class for our Salon & Spa Support Specialist and Nurse Aide cohorts — we’re excited to have you at OFTC! \nHere are a few quick tips to get started strong:✅ Log in to myOFTC — your go-to hub for student resources✅ Set up your OFTC student email on your phone for easy access✅ Explore oftc.edu for helpful tools\, deadlines\, and student info \nNeed help?Reach out to your OFTC Dual Enrollment Coordinator or your course instructor for support. \nLet’s make it a great semester — your career journey starts now! ?
URL:https://oftc.edu/event/classes-begin-dual-enrollment-cohorts-for-salon-spa-support-specialist-and-nurse-aide-fall-2025/
CATEGORIES:Important Dates for Faculty/Staff,Key Academic Dates
ATTACH;FMTTYPE=image/webp:https://oftc.edu/wp-content/uploads/2025/05/1stDayClass-DE.webp
END:VEVENT
BEGIN:VEVENT
DTSTART;VALUE=DATE:20250805
DTEND;VALUE=DATE:20250818
DTSTAMP:20260421T114822
CREATED:20250520T160556Z
LAST-MODIFIED:20250721T142726Z
UID:4050-1754352000-1755475199@oftc.edu
SUMMARY:Available for Faculty Leave
DESCRIPTION:
URL:https://oftc.edu/event/available-for-faculty-leave/
CATEGORIES:Important Dates for Faculty/Staff
ATTACH;FMTTYPE=image/jpeg:https://oftc.edu/wp-content/uploads/2025/05/Available-for-Faculy-Leave_web.jpeg
END:VEVENT
BEGIN:VEVENT
DTSTART;VALUE=DATE:20250804
DTEND;VALUE=DATE:20250805
DTSTAMP:20260421T114822
CREATED:20250520T143414Z
LAST-MODIFIED:20250721T134537Z
UID:4036-1754265600-1754351999@oftc.edu
SUMMARY:Grades Due – Summer 2025 – 12 noon
DESCRIPTION:
URL:https://oftc.edu/event/grades-due-summer-2025-12-noon/
CATEGORIES:Important Dates for Faculty/Staff,Key Academic Dates
ATTACH;FMTTYPE=image/jpeg:https://oftc.edu/wp-content/uploads/2025/05/FY26-Web-Calendar_Random-Events-2-Transient-Transfer-Student-Priority-Deadline.jpeg
END:VEVENT
BEGIN:VEVENT
DTSTART;VALUE=DATE:20250804
DTEND;VALUE=DATE:20250805
DTSTAMP:20260421T114822
CREATED:20250520T155821Z
LAST-MODIFIED:20250522T164910Z
UID:4046-1754265600-1754351999@oftc.edu
SUMMARY:New Student Registration Day - Fall 2025
DESCRIPTION:We’re staying open late to help you get registered! This special registration event is perfect for working students and busy families. \n? Time:▪️ Dublin & Sandersville: 2–7 PM▪️ Jefferson: 5–7 PM \n? Location: Find Your Nearest Campus \nWhether you’re a new student ready to begin or a returning student finalizing your schedule\, our team is here to assist with admissions\, financial aid\, testing\, and more. \n➡️ Get started \n? Need help?Call 478-553-2064 or 478-274-7837? Email: admissions@oftc.edu
URL:https://oftc.edu/event/new-student-registration-day-fall-2025/
LOCATION:Dublin Campus\, 560 Pinehill Road\, Dublin\, GA\, 31021\, United States
CATEGORIES:Important Dates for Faculty/Staff,Key Academic Dates
ATTACH;FMTTYPE=image/webp:https://oftc.edu/wp-content/uploads/2025/05/AY25-New-Student-Reg-Day-Event-Thumbnail-FALL.webp
ORGANIZER;CN="OFTC%E2%80%99s Admission Office":MAILTO:admissions@oftc.edu
END:VEVENT
BEGIN:VEVENT
DTSTART;TZID=America/New_York:20250802T100000
DTEND;TZID=America/New_York:20250802T130000
DTSTAMP:20260421T114822
CREATED:20250522T202710Z
LAST-MODIFIED:20250522T203111Z
UID:4198-1754128800-1754139600@oftc.edu
SUMMARY:One Stop Enrollment Day - Fall 2025 (Sandersville & Jefferson)
DESCRIPTION:Take care of admissions\, financial aid\, and registration in one visit! Your time is valuable\, that’s why we want to make it as simple as we can for you to get started on your path to a successful career. So\, come by and see us during one of our One Stop Enrollment Days & you’ll be on your way to a successful career in no time at all. It just takes one visit to get started! \nStudents who enroll during this event will pay NO admission fee!
URL:https://oftc.edu/event/one-stop-enrollment-day-fall-2025-sandersville-jefferson/
LOCATION:Jefferson Center\, 1157 Warrior Trail\, Louisville\, GA\, 30434\, United States
CATEGORIES:Community Event,Important Dates for Faculty/Staff,Key Academic Dates
ATTACH;FMTTYPE=image/webp:https://oftc.edu/wp-content/uploads/2025/05/AY24-FALL-Minimester-One-Stop-Event-1.webp
ORGANIZER;CN="OFTC%E2%80%99s Admission Office":MAILTO:admissions@oftc.edu
END:VEVENT
BEGIN:VEVENT
DTSTART;VALUE=DATE:20250801
DTEND;VALUE=DATE:20250802
DTSTAMP:20260421T114822
CREATED:20250520T142000Z
LAST-MODIFIED:20250721T130645Z
UID:4028-1754006400-1754092799@oftc.edu
SUMMARY:Graduation Application Deadline - Fall 2025
DESCRIPTION:
URL:https://oftc.edu/event/graduation-application-deadline-fall-2025/
CATEGORIES:Important Dates for Faculty/Staff,Key Academic Dates
ATTACH;FMTTYPE=image/jpeg:https://oftc.edu/wp-content/uploads/2025/05/Grad-App-Deadline_web-2.jpeg
END:VEVENT
BEGIN:VEVENT
DTSTART;TZID=America/New_York:20250726T100000
DTEND;TZID=America/New_York:20250726T130000
DTSTAMP:20260421T114822
CREATED:20250522T202453Z
LAST-MODIFIED:20250522T203219Z
UID:4197-1753524000-1753534800@oftc.edu
SUMMARY:One Stop Enrollment Day - Fall 2025 (Dublin Campus)
DESCRIPTION:Take care of admissions\, financial aid\, and registration in one visit! Your time is valuable\, that’s why we want to make it as simple as we can for you to get started on your path to a successful career. So\, come by and see us during one of our One Stop Enrollment Days & you’ll be on your way to a successful career in no time at all. It just takes one visit to get started! \nStudents who enroll during this event will pay NO admission fee!
URL:https://oftc.edu/event/one-stop-enrollment-day-fall-2025-dublin-campus/
LOCATION:Dublin Campus\, 560 Pinehill Road\, Dublin\, GA\, 31021\, United States
CATEGORIES:Community Event,Important Dates for Faculty/Staff,Key Academic Dates
ATTACH;FMTTYPE=image/webp:https://oftc.edu/wp-content/uploads/2025/05/AY24-FALL-Minimester-One-Stop-Event-1.webp
ORGANIZER;CN="OFTC%E2%80%99s Admission Office":MAILTO:admissions@oftc.edu
END:VEVENT
BEGIN:VEVENT
DTSTART;TZID=America/New_York:20250710T080000
DTEND;TZID=America/New_York:20250710T190000
DTSTAMP:20260421T114822
CREATED:20250522T202205Z
LAST-MODIFIED:20250522T203247Z
UID:4195-1752134400-1752174000@oftc.edu
SUMMARY:One Stop Enrollment Day  - Fall 2025 (ALL Campuses)
DESCRIPTION:Take care of admissions\, financial aid\, and registration in one visit! Your time is valuable\, that’s why we want to make it as simple as we can for you to get started on your path to a successful career. So\, come by and see us during one of our One Stop Enrollment Days & you’ll be on your way to a successful career in no time at all. It just takes one visit to get started! \nStudents who enroll during this event will pay NO admission fee!
URL:https://oftc.edu/event/one-stop-enrollment-day-fall-2025-all-campuses/
LOCATION:Dublin Campus\, 560 Pinehill Road\, Dublin\, GA\, 31021\, United States
CATEGORIES:Community Event,Important Dates for Faculty/Staff,Key Academic Dates
ATTACH;FMTTYPE=image/webp:https://oftc.edu/wp-content/uploads/2025/05/AY24-FALL-Minimester-One-Stop-Event-1.webp
ORGANIZER;CN="OFTC%E2%80%99s Admission Office":MAILTO:admissions@oftc.edu
END:VEVENT
END:VCALENDAR