BEGIN:VCALENDAR
VERSION:2.0
PRODID:-//Oconee Fall Line Technical College - ECPv6.13.1//NONSGML v1.0//EN
CALSCALE:GREGORIAN
METHOD:PUBLISH
X-ORIGINAL-URL:https://oftc.edu
X-WR-CALDESC:Events for Oconee Fall Line Technical College
REFRESH-INTERVAL;VALUE=DURATION:PT1H
X-Robots-Tag:noindex
X-PUBLISHED-TTL:PT1H
BEGIN:VTIMEZONE
TZID:America/New_York
BEGIN:DAYLIGHT
TZOFFSETFROM:-0500
TZOFFSETTO:-0400
TZNAME:EDT
DTSTART:20260308T070000
END:DAYLIGHT
BEGIN:STANDARD
TZOFFSETFROM:-0400
TZOFFSETTO:-0500
TZNAME:EST
DTSTART:20261101T060000
END:STANDARD
END:VTIMEZONE
BEGIN:VEVENT
DTSTART;VALUE=DATE:20260511
DTEND;VALUE=DATE:20260512
DTSTAMP:20260421T062001
CREATED:20250522T143132Z
LAST-MODIFIED:20250522T143132Z
UID:4181-1778457600-1778543999@oftc.edu
SUMMARY:Academic Affairs Training Day
DESCRIPTION:OFTC’s Academic Affairs Division will hold a dedicated training day focused on continuous improvement\, collaboration\, and professional development. This event provides faculty and academic staff with opportunities to enhance instructional practices\, stay informed on institutional updates\, and work together to support student success.
URL:https://oftc.edu/event/academic-affairs-training-day/
CATEGORIES:Important Dates for Faculty/Staff
END:VEVENT
END:VCALENDAR