BEGIN:VCALENDAR
VERSION:2.0
PRODID:-//Oconee Fall Line Technical College - ECPv6.13.1//NONSGML v1.0//EN
CALSCALE:GREGORIAN
METHOD:PUBLISH
X-WR-CALNAME:Oconee Fall Line Technical College
X-ORIGINAL-URL:https://oftc.edu
X-WR-CALDESC:Events for Oconee Fall Line Technical College
REFRESH-INTERVAL;VALUE=DURATION:PT1H
X-Robots-Tag:noindex
X-PUBLISHED-TTL:PT1H
BEGIN:VTIMEZONE
TZID:America/New_York
BEGIN:DAYLIGHT
TZOFFSETFROM:-0500
TZOFFSETTO:-0400
TZNAME:EDT
DTSTART:20270314T070000
END:DAYLIGHT
BEGIN:STANDARD
TZOFFSETFROM:-0400
TZOFFSETTO:-0500
TZNAME:EST
DTSTART:20271107T060000
END:STANDARD
END:VTIMEZONE
BEGIN:VEVENT
DTSTART;VALUE=DATE:20270705
DTEND;VALUE=DATE:20270706
DTSTAMP:20260422T121947
CREATED:20260324T181541Z
LAST-MODIFIED:20260324T181541Z
UID:5874-1814745600-1814831999@oftc.edu
SUMMARY:Staff Holiday: Independence Day 2027
DESCRIPTION:Independence Day – College ClosedOFTC will be closed on Monday\, July 5  in observance of Independence Day on July 4.We wish you a safe and happy holiday as we celebrate the birth of our nation!
URL:https://oftc.edu/event/staff-holiday-independence-day-2027/
CATEGORIES:Holidays & Breaks,Important Dates for Faculty/Staff
ATTACH;FMTTYPE=image/webp:https://oftc.edu/wp-content/uploads/2025/05/FourthofJuly.webp
END:VEVENT
BEGIN:VEVENT
DTSTART;VALUE=DATE:20270705
DTEND;VALUE=DATE:20270710
DTSTAMP:20260422T121947
CREATED:20260324T181812Z
LAST-MODIFIED:20260324T181812Z
UID:5875-1814745600-1815177599@oftc.edu
SUMMARY:Student Holidays: Summer Break 2027
DESCRIPTION:Student Summer BreakEnjoy your well-deserved break\, students! No classes will be held during this time. OFTC campuses will remain open with normal operating hours\, so stop by if you need assistance.
URL:https://oftc.edu/event/student-holidays-summer-break-2027/
CATEGORIES:Holidays & Breaks,Important Dates for Faculty/Staff
ATTACH;FMTTYPE=image/webp:https://oftc.edu/wp-content/uploads/2025/05/SummerBreak.webp
END:VEVENT
END:VCALENDAR