BEGIN:VCALENDAR
VERSION:2.0
PRODID:-//Oconee Fall Line Technical College - ECPv6.13.1//NONSGML v1.0//EN
CALSCALE:GREGORIAN
METHOD:PUBLISH
X-WR-CALNAME:Oconee Fall Line Technical College
X-ORIGINAL-URL:https://oftc.edu
X-WR-CALDESC:Events for Oconee Fall Line Technical College
REFRESH-INTERVAL;VALUE=DURATION:PT1H
X-Robots-Tag:noindex
X-PUBLISHED-TTL:PT1H
BEGIN:VTIMEZONE
TZID:America/New_York
BEGIN:DAYLIGHT
TZOFFSETFROM:-0500
TZOFFSETTO:-0400
TZNAME:EDT
DTSTART:20260308T070000
END:DAYLIGHT
BEGIN:STANDARD
TZOFFSETFROM:-0400
TZOFFSETTO:-0500
TZNAME:EST
DTSTART:20261101T060000
END:STANDARD
END:VTIMEZONE
BEGIN:VEVENT
DTSTART;VALUE=DATE:20260819
DTEND;VALUE=DATE:20260820
DTSTAMP:20260421T234711
CREATED:20260324T104236Z
LAST-MODIFIED:20260324T104236Z
UID:5799-1787097600-1787183999@oftc.edu
SUMMARY:Last Day for Drop/Add\, Refund\, Pay for Class\, Financial Aid in the bookstore – Terms A & B – Fall 2026
DESCRIPTION:It’s the last day to get things done for the upcoming semester\, including drop/add\, refunds\, paying for class (5:00pm)\, and financial aid in the Bookstore (5:00pm).
URL:https://oftc.edu/event/last-day-for-drop-add-refund-pay-for-class-financial-aid-in-the-bookstore-terms-a-b-fall-2026/
LOCATION:GA
CATEGORIES:Key Academic Dates
ATTACH;FMTTYPE=image/webp:https://oftc.edu/wp-content/uploads/2025/05/LastDay.webp
END:VEVENT
BEGIN:VEVENT
DTSTART;VALUE=DATE:20260819
DTEND;VALUE=DATE:20260820
DTSTAMP:20260421T234711
CREATED:20260324T104958Z
LAST-MODIFIED:20260324T104958Z
UID:5804-1787097600-1787183999@oftc.edu
SUMMARY:Student Registration Begins for Minimester/Term C – Fall 2026
DESCRIPTION:Ready to get started at OFTC? This is your day to register for classes\, meet with advisors\, and take the next step toward your future career. \nCurrently Enrolled Students\nHow to Register for Classes \nFor Students Applying for Enrollment\nBefore registering\, make sure you’ve applied for admission and completed any necessary steps like financial aid or assessment testing. \nExplore programs: oftc.edu/programsQuestions? Contact Admissions at 478-553-2064 or 478-274-7837Email: admissions@oftc.edu \nStill have questions? ? Everything you need to GET STARTED is right here!
URL:https://oftc.edu/event/student-registration-begins-for-minimester-term-c-fall-2026/
LOCATION:GA
CATEGORIES:Key Academic Dates
ATTACH;FMTTYPE=image/webp:https://oftc.edu/wp-content/uploads/2025/05/Minimester-REG.webp
END:VEVENT
END:VCALENDAR