BEGIN:VCALENDAR
VERSION:2.0
PRODID:-//Oconee Fall Line Technical College - ECPv6.13.1//NONSGML v1.0//EN
CALSCALE:GREGORIAN
METHOD:PUBLISH
X-WR-CALNAME:Oconee Fall Line Technical College
X-ORIGINAL-URL:https://oftc.edu
X-WR-CALDESC:Events for Oconee Fall Line Technical College
REFRESH-INTERVAL;VALUE=DURATION:PT1H
X-Robots-Tag:noindex
X-PUBLISHED-TTL:PT1H
BEGIN:VTIMEZONE
TZID:America/New_York
BEGIN:DAYLIGHT
TZOFFSETFROM:-0500
TZOFFSETTO:-0400
TZNAME:EDT
DTSTART:20260308T070000
END:DAYLIGHT
BEGIN:STANDARD
TZOFFSETFROM:-0400
TZOFFSETTO:-0500
TZNAME:EST
DTSTART:20261101T060000
END:STANDARD
END:VTIMEZONE
BEGIN:VEVENT
DTSTART;VALUE=DATE:20260518
DTEND;VALUE=DATE:20260519
DTSTAMP:20260421T154025
CREATED:20250520T190521Z
LAST-MODIFIED:20250522T171938Z
UID:4071-1779062400-1779148799@oftc.edu
SUMMARY:Classes Begin – Summer 2026
DESCRIPTION:Welcome to OFTC — It’s the First Day of Class! ?We’re so glad you’re here! Start your semester strong with these helpful tips: \n✅ Log in to myOFTC — your one-stop hub for student tools and resources✅ Set up your OFTC student email on your phone for quick\, easy access✅ Explore oftc.edu — find important info\, deadlines\, and support services \nNeed assistance?The Registrar’s Office will be open until 7 PM on the first and second day of classes to help with registration\, schedules\, and more. \nLet’s make it a great semester!
URL:https://oftc.edu/event/classes-begin-summer-2026/
LOCATION:GA
CATEGORIES:Important Dates for Faculty/Staff,Key Academic Dates
ATTACH;FMTTYPE=image/webp:https://oftc.edu/wp-content/uploads/2025/05/1stDayClass.webp
END:VEVENT
BEGIN:VEVENT
DTSTART;VALUE=DATE:20260518
DTEND;VALUE=DATE:20260519
DTSTAMP:20260421T154025
CREATED:20250521T110521Z
LAST-MODIFIED:20250522T164524Z
UID:4097-1779062400-1779148799@oftc.edu
SUMMARY:Late Registration Fee Begins – Summer 2026
DESCRIPTION:
URL:https://oftc.edu/event/late-registration-fee-begins-summer-2026/
LOCATION:GA
CATEGORIES:Key Academic Dates
END:VEVENT
END:VCALENDAR