BEGIN:VCALENDAR
VERSION:2.0
PRODID:-//Oconee Fall Line Technical College - ECPv6.13.1//NONSGML v1.0//EN
CALSCALE:GREGORIAN
METHOD:PUBLISH
X-ORIGINAL-URL:https://oftc.edu
X-WR-CALDESC:Events for Oconee Fall Line Technical College
REFRESH-INTERVAL;VALUE=DURATION:PT1H
X-Robots-Tag:noindex
X-PUBLISHED-TTL:PT1H
BEGIN:VTIMEZONE
TZID:America/New_York
BEGIN:DAYLIGHT
TZOFFSETFROM:-0500
TZOFFSETTO:-0400
TZNAME:EDT
DTSTART:20260308T070000
END:DAYLIGHT
BEGIN:STANDARD
TZOFFSETFROM:-0400
TZOFFSETTO:-0500
TZNAME:EST
DTSTART:20261101T060000
END:STANDARD
END:VTIMEZONE
BEGIN:VEVENT
DTSTART;VALUE=DATE:20260501
DTEND;VALUE=DATE:20260502
DTSTAMP:20260421T133829
CREATED:20250520T132748Z
LAST-MODIFIED:20250520T133051Z
UID:4024-1777593600-1777679999@oftc.edu
SUMMARY:Classes End – Dual Enrollment Cohorts for Salon & Spa Support Specialist & Nurse Aide - Spring 2026
DESCRIPTION:
URL:https://oftc.edu/event/classes-end-dual-enrollment-cohorts-for-salon-spa-support-specialist-nurse-aide-spring-2026/
LOCATION:GA
CATEGORIES:Key Academic Dates
ATTACH;FMTTYPE=image/png:https://oftc.edu/wp-content/uploads/2025/05/LAST-DAY-OF-CLASSES.png
END:VEVENT
END:VCALENDAR