BEGIN:VCALENDAR
VERSION:2.0
PRODID:-//Oconee Fall Line Technical College - ECPv6.13.1//NONSGML v1.0//EN
CALSCALE:GREGORIAN
METHOD:PUBLISH
X-ORIGINAL-URL:https://oftc.edu
X-WR-CALDESC:Events for Oconee Fall Line Technical College
REFRESH-INTERVAL;VALUE=DURATION:PT1H
X-Robots-Tag:noindex
X-PUBLISHED-TTL:PT1H
BEGIN:VTIMEZONE
TZID:America/New_York
BEGIN:DAYLIGHT
TZOFFSETFROM:-0500
TZOFFSETTO:-0400
TZNAME:EDT
DTSTART:20260308T070000
END:DAYLIGHT
BEGIN:STANDARD
TZOFFSETFROM:-0400
TZOFFSETTO:-0500
TZNAME:EST
DTSTART:20261101T060000
END:STANDARD
END:VTIMEZONE
BEGIN:VEVENT
DTSTART;VALUE=DATE:20260303
DTEND;VALUE=DATE:20260430
DTSTAMP:20260423T050210
CREATED:20250519T200553Z
LAST-MODIFIED:20250522T163904Z
UID:3295-1772496000-1777507199@oftc.edu
SUMMARY:Advanced Registration - Summer 2026
DESCRIPTION:Current OFTC students have the first opportunity to register for next semester’s classes during Advanced Registration. Be sure to meet with your advisor ahead of time—advisor approval is required before you can register. \n? Learn more about the Academic Advisement process and how your advisor can help you succeed!
URL:https://oftc.edu/event/advanced-registration-spring-2026/
LOCATION:GA
CATEGORIES:Key Academic Dates
ATTACH;FMTTYPE=image/webp:https://oftc.edu/wp-content/uploads/2025/05/AdvancedRegistration.webp
ORGANIZER;CN="OFTC%E2%80%99s Admission Office":MAILTO:admissions@oftc.edu
END:VEVENT
BEGIN:VEVENT
DTSTART;VALUE=DATE:20260414
DTEND;VALUE=DATE:20260417
DTSTAMP:20260423T050210
CREATED:20260319T112149Z
LAST-MODIFIED:20260319T113248Z
UID:5734-1776124800-1776383999@oftc.edu
SUMMARY:TEAS Study Session (Sandersville Campus)
DESCRIPTION:Prepare for your upcoming TEAS Exam with focused study sessions! Join us for subject-specific reviews led by knowledgeable instructors to boost your confidence and readiness. \nSchedule & Locations: \n\nMath: April 14 | 5:30 PM | Sandersville Campus Library\nScience: April 15 & 16 | 4:30 PM | Sandersville Campus Room 490L\n\nOpen to all students planning to take the TEAS Exam. Bring your questions and get ready to succeed!
URL:https://oftc.edu/event/teas-study-session-sandersville-campus/
LOCATION:Sandersville Campus\, 1189 Deepstep Road\, Sandersville\, GA\, 31082\, United States
CATEGORIES:Key Academic Dates,Student Event
ATTACH;FMTTYPE=image/jpeg:https://oftc.edu/wp-content/uploads/2026/03/AY24-FALL-TEAS-STUDY-NIGHT_NOVEMBER_SM.jpeg
ORGANIZER;CN="OFTC Library":MAILTO:amccaskill@oftc.edu
END:VEVENT
BEGIN:VEVENT
DTSTART;TZID=America/New_York:20260416T123000
DTEND;TZID=America/New_York:20260416T133000
DTSTAMP:20260423T050210
CREATED:20260127T162513Z
LAST-MODIFIED:20260127T163249Z
UID:5646-1776342600-1776346200@oftc.edu
SUMMARY:Imaging Science Info Session-April
DESCRIPTION:Attend a free information session! Sessions are open to students interested in exploring Radiologic Technology and Diagnostic Medical Sonography programs at OFTC. \nHowever\, to be eligible to compete for Diagnostic Medical Sonography or Radiologic Technology programs\, all applicants are REQUIRED to attend one Information Session either the term of or the term before their competitive selection deadline to be eligible for competition. \nAll sessions are at the OFTC Dublin Campusin Louie Livingston Hall (LLH) #102.
URL:https://oftc.edu/event/imaging-science-info-session-april/
LOCATION:Dublin Campus\, 560 Pinehill Road\, Dublin\, GA\, 31021\, United States
CATEGORIES:Community Event,Key Academic Dates,Student Event
ATTACH;FMTTYPE=image/png:https://oftc.edu/wp-content/uploads/2026/01/AY26-IMAGING-SCIENCE-INFO-SESSION-Event-Thumbnail.png
END:VEVENT
END:VCALENDAR