BEGIN:VCALENDAR
VERSION:2.0
PRODID:-//Oconee Fall Line Technical College - ECPv6.13.1//NONSGML v1.0//EN
CALSCALE:GREGORIAN
METHOD:PUBLISH
X-WR-CALNAME:Oconee Fall Line Technical College
X-ORIGINAL-URL:https://oftc.edu
X-WR-CALDESC:Events for Oconee Fall Line Technical College
REFRESH-INTERVAL;VALUE=DURATION:PT1H
X-Robots-Tag:noindex
X-PUBLISHED-TTL:PT1H
BEGIN:VTIMEZONE
TZID:America/New_York
BEGIN:DAYLIGHT
TZOFFSETFROM:-0500
TZOFFSETTO:-0400
TZNAME:EDT
DTSTART:20260308T070000
END:DAYLIGHT
BEGIN:STANDARD
TZOFFSETFROM:-0400
TZOFFSETTO:-0500
TZNAME:EST
DTSTART:20261101T060000
END:STANDARD
END:VTIMEZONE
BEGIN:VEVENT
DTSTART;VALUE=DATE:20260303
DTEND;VALUE=DATE:20260430
DTSTAMP:20260423T101227
CREATED:20250519T200553Z
LAST-MODIFIED:20250522T163904Z
UID:3295-1772496000-1777507199@oftc.edu
SUMMARY:Advanced Registration - Summer 2026
DESCRIPTION:Current OFTC students have the first opportunity to register for next semester’s classes during Advanced Registration. Be sure to meet with your advisor ahead of time—advisor approval is required before you can register. \n? Learn more about the Academic Advisement process and how your advisor can help you succeed!
URL:https://oftc.edu/event/advanced-registration-spring-2026/
LOCATION:GA
CATEGORIES:Key Academic Dates
ATTACH;FMTTYPE=image/webp:https://oftc.edu/wp-content/uploads/2025/05/AdvancedRegistration.webp
ORGANIZER;CN="OFTC%E2%80%99s Admission Office":MAILTO:admissions@oftc.edu
END:VEVENT
BEGIN:VEVENT
DTSTART;VALUE=DATE:20260331
DTEND;VALUE=DATE:20260401
DTSTAMP:20260423T101227
CREATED:20250520T110254Z
LAST-MODIFIED:20250522T150642Z
UID:4004-1774915200-1775001599@oftc.edu
SUMMARY:New Student Registration Begins - Summer 2026 (AY26)
DESCRIPTION:Ready to get started at OFTC? This is your day to register for classes\, meet with advisors\, and take the next step toward your future career. \nCurrently Enrolled Students\nHow to Register for Classes \nFor Students Applying for Enrollment\nBefore registering\, make sure you’ve applied for admission and completed any necessary steps like financial aid or assessment testing. \n? Explore programs: oftc.edu/programs? Questions? Contact Admissions at 478-553-2064 or 478-274-7837? Email: admissions@oftc.edu \nStill have questions? ? Everything you need to GET STARTED is right here! \n 
URL:https://oftc.edu/event/new-student-registration-begins-summer-2026-ay26/
LOCATION:GA
CATEGORIES:Key Academic Dates
ATTACH;FMTTYPE=image/webp:https://oftc.edu/wp-content/uploads/2025/05/NewStudentRegistration.webp
ORGANIZER;CN="OFTC%E2%80%99s Admission Office":MAILTO:admissions@oftc.edu
END:VEVENT
BEGIN:VEVENT
DTSTART;VALUE=DATE:20260331
DTEND;VALUE=DATE:20260401
DTSTAMP:20260423T101227
CREATED:20250520T112026Z
LAST-MODIFIED:20250520T115340Z
UID:4008-1774915200-1775001599@oftc.edu
SUMMARY:Nelnet Payment Plan Opens - Summer (AY26)
DESCRIPTION:Need help budgeting your tuition payments? OFTC offers an easy way to pay over time! \nWe’ve partnered with Nelnet\, a trusted payment plan provider\, to give students the option to break tuition costs into smaller\, manageable payments throughout the semester. \n? Learn more & get started ➡️: Payment Plans
URL:https://oftc.edu/event/nelnet-payment-plan-opens-summer-ay26/
LOCATION:GA
CATEGORIES:Key Academic Dates
ATTACH;FMTTYPE=image/png:https://oftc.edu/wp-content/uploads/2025/05/Nelnet.png
END:VEVENT
END:VCALENDAR