BEGIN:VCALENDAR
VERSION:2.0
PRODID:-//Oconee Fall Line Technical College - ECPv6.13.1//NONSGML v1.0//EN
CALSCALE:GREGORIAN
METHOD:PUBLISH
X-ORIGINAL-URL:https://oftc.edu
X-WR-CALDESC:Events for Oconee Fall Line Technical College
REFRESH-INTERVAL;VALUE=DURATION:PT1H
X-Robots-Tag:noindex
X-PUBLISHED-TTL:PT1H
BEGIN:VTIMEZONE
TZID:America/New_York
BEGIN:DAYLIGHT
TZOFFSETFROM:-0500
TZOFFSETTO:-0400
TZNAME:EDT
DTSTART:20260308T070000
END:DAYLIGHT
BEGIN:STANDARD
TZOFFSETFROM:-0400
TZOFFSETTO:-0500
TZNAME:EST
DTSTART:20261101T060000
END:STANDARD
END:VTIMEZONE
BEGIN:VEVENT
DTSTART;VALUE=DATE:20260303
DTEND;VALUE=DATE:20260430
DTSTAMP:20260419T091912
CREATED:20250519T200553Z
LAST-MODIFIED:20250522T163904Z
UID:3295-1772496000-1777507199@oftc.edu
SUMMARY:Advanced Registration - Summer 2026
DESCRIPTION:Current OFTC students have the first opportunity to register for next semester’s classes during Advanced Registration. Be sure to meet with your advisor ahead of time—advisor approval is required before you can register. \n? Learn more about the Academic Advisement process and how your advisor can help you succeed!
URL:https://oftc.edu/event/advanced-registration-spring-2026/
CATEGORIES:Key Academic Dates
ATTACH;FMTTYPE=image/webp:https://oftc.edu/wp-content/uploads/2025/05/AdvancedRegistration.webp
ORGANIZER;CN="OFTC%E2%80%99s Admission Office":MAILTO:admissions@oftc.edu
END:VEVENT
BEGIN:VEVENT
DTSTART;VALUE=DATE:20260317
DTEND;VALUE=DATE:20260401
DTSTAMP:20260419T091912
CREATED:20251125T152243Z
LAST-MODIFIED:20260324T140348Z
UID:5567-1773705600-1775001599@oftc.edu
SUMMARY:Battle of the Brackets
DESCRIPTION:March is one of the most exciting times of the year for basketball fans! Join OFTC’s Battle of the Brackets\, March 17–31 and complete your brackets while competing in some friendly fun with your OFTC family. \nCurrently enrolled OFTC students and employees may obtain an official 2026 bracket:\n(1) online at the NCAA website\n(2) in-person at your nearest OFTC Library – Dublin\, Jefferson\, or Sandersville locations \n  \nTHEN: (1) turn in your bracket to your closest OFTC Library (Dublin\, Sandersville or Jefferson locations) OR email it to studentlife@oftc.edu by March 18 at 12 PM. \nWinners will be announced via OFTC email accounts on April 7. \nGot questions? Contact Student Life.
URL:https://oftc.edu/event/battle-of-the-brackets/
CATEGORIES:Student Event
ATTACH;FMTTYPE=image/png:https://oftc.edu/wp-content/uploads/2025/11/AY26-SPR-Student-Life-Events-bracketbattle-SM.png
ORGANIZER;CN="OFTC Student Life":MAILTO:studentlife@oftc.edu
END:VEVENT
BEGIN:VEVENT
DTSTART;TZID=America/New_York:20260328T080000
DTEND;TZID=America/New_York:20260328T130000
DTSTAMP:20260419T091912
CREATED:20260224T145941Z
LAST-MODIFIED:20260224T145941Z
UID:5700-1774684800-1774702800@oftc.edu
SUMMARY:Adult Education Saturday Math Boot Camp - Dublin Campus
DESCRIPTION:Ready to take the next step toward earning your High School Equivalency credential? Join OFTC Adult Education for a one-day Saturday Math Boot Camp designed to help you strengthen key math skills and complete your testing the same day. \n📅 Dates & Locations\nSaturday\, March 28 – Dublin Campus \n🕗 Schedule\n8:00 am – 11:30 am – Comprehensive Math Review\n11:30 am – 12:00 pm – Lunch Break (bring your own lunch)\n12:00 pm – Testing \nSeating is limited to 8 students per session due to testing center capacity. Registration is required and spots will be filled on a first-come\, first-served basis. \n📌 How to Register\nContact Dr. Angie Bennett\n📧 abennett@oftc.edu\n📞 478-274-7847 \nTake advantage of this opportunity to move closer to earning your High School Equivalency credential!
URL:https://oftc.edu/event/adult-education-saturday-math-boot-camp-dublin-campus/
LOCATION:Dublin Campus\, 560 Pinehill Road\, Dublin\, GA\, 31021\, United States
CATEGORIES:Adult Education (GED & HiSET)
ATTACH;FMTTYPE=image/png:https://oftc.edu/wp-content/uploads/2026/02/AY26-AE-Math-Bootcamp_March-2026-3.png
ORGANIZER;CN="Adult Education (GED & HiSET)":MAILTO:aevirtualenrollment@oftc.edu
END:VEVENT
END:VCALENDAR